BEGIN:VCALENDAR
VERSION:2.0
PRODID:-//wp-events-plugin.com//7.2.3.1//EN
TZID:Europe/Rome
X-WR-TIMEZONE:Europe/Rome
BEGIN:VEVENT
UID:44260@lazioeventi.com
DTSTART;TZID=Europe/Rome:20260430T100000
DTEND;TZID=Europe/Rome:20260503T200000
DTSTAMP:20260417T070742Z
URL:https://lazioeventi.com/eventi/125-edizione-100-pittori-via-margutta-l
 a-natura-che-cambia
SUMMARY:125° edizione 100 Pittori Via Margutta: La natura che cambia - Rom
 a - 30 Aprile 26 10:00
DESCRIPTION:Dal 30 aprile al 3 maggio 2026 la suggestiva e rinomata Via Mar
 gutta ospita la 125° edizione della storica mostra d’arte diffusa 100 P
 ittori Via Margutta\, che quest’anno sarà dedicata ad un tema quanto ma
 i attuale “La natura che cambia”.\n\nLa scelta non nasce da un intento
  “illustrativo” o didascalico\, ma dall’esigenza di individuare un o
 rizzonte condiviso\, riconoscibile dal pubblico e al tempo stesso\, abbast
 anza ampio da accogliere linguaggi e ricerche differenti. Oggi la trasform
 azione della natura non è un’astrazione: è esperienza quotidiana\, oss
 ervabile nei paesaggi che mutano\, nelle stagioni che slittano\, nella dis
 ponibilità dell’acqua\, nei cicli del vivente\, nelle fragilità e nell
 e rigenerazioni degli ecosistemi\, fino ai nuovi equilibri tra natura e ci
 ttà. Parlare di “metamorfosi” significa quindi mettere a fuoco il pre
 sente\, senza trasformare l’arte in un manifesto\, ma riconoscendo che i
 l cambiamento è la condizione stessa del naturale.\n\nIl tema sarà affro
 ntato dai singoli artisti in chiave figurativa o astratta\, con un’impos
 tazione classica o sperimentale\, attraverso il paesaggio\, il dettaglio\,
  la materia\, il segno\, il colore\, la luce\, la stratificazione o il ges
 to. La “metamorfosi” sarà colta come passaggio (tra stati\, atmosfere
 \, forme)\, come tempo (crescita\, erosione\, sedimentazione)\, come energ
 ia (movimento\, ritmo\, tensione)\, oppure come relazione (tracce\, confin
 i\, compresenza tra umano e naturale).\n\nVia Margutta presenterà al pubb
 lico opere che non spieghino\, ma che emozionino — che facciano vedere i
 l mutamento\, sentirne il respiro\, ascoltarne la storia. Una rassegna nat
 a per mettere in relazione voci diverse\, generazioni e linguaggi: non per
  uniformare\, ma per mostrare la ricchezza e l’urgenza di uno sguardo ch
 e cambia con il mondo.\n\n&nbsp\;\n\nQuesto evento non è solo una semplic
 e esposizione\, rappresenta un viaggio coinvolgente nell'anima dell'arte\,
  un'opportunità per esplorare e celebrare la ricca storia dei 100 Pittori
  di Via Margutta\, che si ripete a Roma dal 1953.\n\nAlla manifestazione c
 he sarà inaugurata con il classico “taglio del nastro” giovedì 30 ap
 rile alle ore 16.00 sono attesi la Presidente dell’Assemblea Capitolina
  Svetlana Celli\, il Presidente della Commissione VII Patrimonio e Politi
 che Abitative di Roma Capitale\, Yuri Trombetti e il Consigliere dell'Ass
 emblea Capitolina e Presidente della Commissione Sport\, Benessere e Qual
 ità della Vita Ferdinando Bonessio.\n\n&nbsp\;\n\nDurante l'inaugurazione
 \, verranno conferiti i titoli di Soci Onorari a Igina Bianchi\, Antoniett
 a Bozzella e Sergio Cantarelli.\n\nCamminando lungo questa pittoresca stra
 da\, il pubblico sarà accolto da un susseguirsi di opere d'arte che racco
 ntano storie\, emozioni e vissuti che potranno essere ammirate dal pubblic
 o sulle classiche e storiche strutture espositive\, costituite da un caval
 letto sormontato da ombrellone.\n\nI visitatori avranno l'opportunità di 
 dialogare e confrontarsi con i protagonisti di questa manifestazione.\n\nT
 utto questo è stato reso possibile grazie al prezioso contributo del Pres
 idente dell’Associazione Cento Pittori Via Margutta Antonio Servillo\, d
 ella Vicepresidente Paola Minissale\, del segretario particolare Maurizio 
 Baiocchini e dei Consiglieri Silvano Fabrizio\, Angelo Colazingari\, Rober
 to Fantini\, Pino Tersigni e di Maria Cristina Lucidi.\n\nL’esposizione 
 diffusa ha ottenuto il patrocinio del Parlamento Europeo e dell’Assessor
 ato alla Cultura di Roma Capitale.\n\n \n\nSi ringraziano per la collabor
 azione:  l’Azienda agricola Le 3 montagne\, Il pane di San Saba\, MDS E
 xpress Courier\, CAF Italia Via Val Grana\, Ottica La Fege e Galleria Vitt
 oria.\n\n&nbsp\;
ATTACH;FMTTYPE=image/jpeg:https://lazioeventi.com/wp-content/uploads/2026/
 04/Cento-Pittori-Via-Margutta-2025.jpg
CATEGORIES:Arte e Cultura nel Lazio
LOCATION:Roma\, Via Leopardi\, Roma\, Roma\, Lazio\, Italia
GEO:41.8942;12.5017
X-APPLE-STRUCTURED-LOCATION;VALUE=URI;X-ADDRESS=Via Leopardi\, Roma\, Roma\
 , Lazio\, Italia;X-APPLE-RADIUS=100;X-TITLE=Roma:geo:41.8942,12.5017
END:VEVENT
BEGIN:VTIMEZONE
TZID:Europe/Rome
X-LIC-LOCATION:Europe/Rome
BEGIN:DAYLIGHT
DTSTART:20260329T030000
TZOFFSETFROM:+0100
TZOFFSETTO:+0200
TZNAME:CEST
END:DAYLIGHT
END:VTIMEZONE
END:VCALENDAR