BEGIN:VCALENDAR
VERSION:2.0
PRODID:-//wp-events-plugin.com//7.2.3.1//EN
TZID:Europe/Rome
X-WR-TIMEZONE:Europe/Rome
BEGIN:VEVENT
UID:30898@lazioeventi.com
DTSTART;TZID=Europe/Rome:20220626T070000
DTEND;TZID=Europe/Rome:20220626T180000
DTSTAMP:20220510T223007Z
URL:https://lazioeventi.com/eventi/152525-2022-06-26
SUMMARY:Fiera Agricola di Fonte Nuova - Fonte Nuova - 26 Giugno 22 07:00
DESCRIPTION:L'associazione Obbiettivo E20 in collaborazione con il comune d
 i Fonte Nuova organizza dal 24 Aprile ed ogni ultima domenica in poi la "F
 IERA AGRICOLA di Fonte Nuova".\n\nUn evento dedicato all'artigianato e all
 'agricoltura qui nell'agro romano.\n\nINFORMAZIONI\nUgo 329 264 2895\nRicc
 ardo 339 337 1327\nAlessandro 392 387 2447
ATTACH;FMTTYPE=image/jpeg:https://lazioeventi.com/wp-content/uploads/2022/
 05/fiera-agricola-fontenuova.jpg
CATEGORIES:Fiere e Mercatini nel Lazio
LOCATION:Fonte Nuova\, Comune\, Fonte Nuova\, Roma\, Lazio\, Italia
GEO:41.9958;12.6213
X-APPLE-STRUCTURED-LOCATION;VALUE=URI;X-ADDRESS=Comune\, Fonte Nuova\, Roma
 \, Lazio\, Italia;X-APPLE-RADIUS=100;X-TITLE=Fonte Nuova:geo:41.9958,12.62
 13
END:VEVENT
BEGIN:VTIMEZONE
TZID:Europe/Rome
X-LIC-LOCATION:Europe/Rome
BEGIN:DAYLIGHT
DTSTART:20220327T030000
TZOFFSETFROM:+0100
TZOFFSETTO:+0200
TZNAME:CEST
END:DAYLIGHT
END:VTIMEZONE
END:VCALENDAR