BEGIN:VCALENDAR
VERSION:2.0
PRODID:-//wp-events-plugin.com//7.2.3.1//EN
TZID:Europe/Rome
X-WR-TIMEZONE:Europe/Rome
BEGIN:VEVENT
UID:30918@lazioeventi.com
DTSTART;TZID=Europe/Rome:20220514T190000
DTEND;TZID=Europe/Rome:20220514T230000
DTSTAMP:20220512T080017Z
URL:https://lazioeventi.com/eventi/152582
SUMMARY:La Bottega dello Scultore - Priverno - 14 Maggio 22 19:00
DESCRIPTION:Al Museo ARCHEOLOGICO di Priverno per LA NOTTE DEI MUSEI 2022\n
 \napertura straordinaria dalle 19.00 alle 23.00\n\nalle ore 21.00: un inco
 ntro/laboratorio ‼️ da non perdere ‼️ \n\nLA BOTTEGA DELLO SCULTOR
 E e la pietra diventa figura …\nun affascinante dialogo con le bellissim
 e sculture esposte al Museo condotto dall’artista GIOVANNA CAMPOLI per s
 coprire tutti i segreti di un’opera d’arte.\nL’attività è adatta a
  grandi e piccini ed è gratuita. Ingresso al Museo € 1.00.\n\nInfo e pr
 enotazioni: 0773912306 – 3472330723 (ore 10.00-13.00)\n\nL'evento è rea
 lizzato nell'ambito del progetto CONVIVIUM del Sistema Integrato Territori
 ale dei Monti Lepini\, sostenuto dalla Regione Lazio 
ATTACH;FMTTYPE=image/jpeg:https://lazioeventi.com/wp-content/uploads/2022/
 05/notte-musei-priverno.jpg
CATEGORIES:Arte e Cultura nel Lazio
LOCATION:Priverno\, Comune di Priverno\, Priverno\, Latina\, Lazio\, Italia
GEO:41.4734;13.1817
X-APPLE-STRUCTURED-LOCATION;VALUE=URI;X-ADDRESS=Comune di Priverno\, Priver
 no\, Latina\, Lazio\, Italia;X-APPLE-RADIUS=100;X-TITLE=Priverno:geo:41.47
 34,13.1817
END:VEVENT
BEGIN:VTIMEZONE
TZID:Europe/Rome
X-LIC-LOCATION:Europe/Rome
BEGIN:DAYLIGHT
DTSTART:20220327T030000
TZOFFSETFROM:+0100
TZOFFSETTO:+0200
TZNAME:CEST
END:DAYLIGHT
END:VTIMEZONE
END:VCALENDAR