BEGIN:VCALENDAR
VERSION:2.0
PRODID:-//wp-events-plugin.com//7.2.3.1//EN
TZID:Europe/Rome
X-WR-TIMEZONE:Europe/Rome
BEGIN:VEVENT
UID:33485@lazioeventi.com
DTSTART;TZID=Europe/Rome;VALUE=DATE:20221208
DTEND;TZID=Europe/Rome;VALUE=DATE:20230107
DTSTAMP:20221219T154008Z
URL:https://lazioeventi.com/eventi/159204
SUMMARY:Natale a Gorga - Gorga - 8 Dicembre 22 00:00
DESCRIPTION:Ecco il programma degli eventi in occasione delle festività na
 talizie a Gorga.\n\nDall’ 8 Dicembre 2022 al 6 Gennaio 2023\nMercatino d
 i Natale a cura dell’Associazione Arte Idea Gorga presso Piazza Vittorio
  Emanuele II\n\n8 Dicembre 2022\nOre 10:00- Mercatino di Natale a cura del
 l’Associazione Mamme Amiche\nOre 10:00- Santa Messa Solenne\nOre 10:45- 
 Processione con la statua di Maria Immacolata\n\n10 Dicembre 2022\nL’opp
 osizione di Marte e lo Sciame delle Geminidi evento presso l’Osservatori
 o Astronomico a cura del Gruppo Astrofili dei Monti Lepini (spettacoli all
 e ore 18:00 e alle 21:30)\n\n10 dicembre\nmarte-dic-2022\n\n18 Dicembre 20
 22\nOe 15:00- Mercatino di Natale e Pesca di beneficenza a cura dell’Ass
 ociazione Mamme Amiche\nOre 15:00- Il villaggio di Babbo Natale presso Pia
 zza Vittorio Emanuele II\n\n23 Dicembre 2022\nDalle ore 17:00- Cantinando 
 a Gorga\n\n24 Dicembre 2022\nOre 23:30- Santa Messa nella notte di Natale\
 n\n25 Dicembre 2022\nOre 9:00- Santa Messa Solenne\nOre 11:00- Santa Messa
  Solenne del Giorno di Natale\n\n26 Dicembre 2022\nIl Cielo d’Inverno ev
 ento presso l’Osservatorio Asronomico a cura del Gruppo Astrofili dei Mo
 nti Lepini (spettacoli alle ore 18 e alle ore 21:30)\n\n27 Dicembre 2022\n
 Ore 11:00- Inaugurazione Meridiana evento presso l’Osservatorio Astronom
 ico a cura del Gruppo Astrofili dei Monti Lepini\nOre 15:00- Mercatino di 
 Natale e Pesca di Beneficienza a cura dell’Associazione Mamme Amiche\nOr
 e 15:00- Villaggio Il Fantastico Mondo di World Disney\npresso Piazza Vitt
 orio Emanuele II\n\n29 Dicembre 2022\nOre 18:00- Concerto Gospel e Spiritu
 al presso Chiesa San Michele Arcangelo a cura dell’Associazione Musicale
  Voice Academy\n\n6 Gennaio 2023\nOre 15:00- Arriva la Befana presso Piazz
 a Vittorio Emanuele II\n
ATTACH;FMTTYPE=image/jpeg:https://lazioeventi.com/wp-content/uploads/2022/
 12/gorga-programma-natale-2022.jpg
CATEGORIES:Fiere e Mercatini nel Lazio,Musica, Spettacoli e Danza nel
 Lazio,Sport, Tempo Libero e Divertimento nel Lazio
LOCATION:Gorga\, Comune\, Gorga\, Roma\, Lazio\, Italia
GEO:41.6561;13.1106
X-APPLE-STRUCTURED-LOCATION;VALUE=URI;X-ADDRESS=Comune\, Gorga\, Roma\, Laz
 io\, Italia;X-APPLE-RADIUS=100;X-TITLE=Gorga:geo:41.6561,13.1106
END:VEVENT
BEGIN:VTIMEZONE
TZID:Europe/Rome
X-LIC-LOCATION:Europe/Rome
BEGIN:STANDARD
DTSTART:20221030T020000
TZOFFSETFROM:+0200
TZOFFSETTO:+0100
TZNAME:CET
END:STANDARD
END:VTIMEZONE
END:VCALENDAR