BEGIN:VCALENDAR
VERSION:2.0
PRODID:-//wp-events-plugin.com//7.2.3.1//EN
TZID:Europe/Rome
X-WR-TIMEZONE:Europe/Rome
BEGIN:VEVENT
UID:34323@lazioeventi.com
DTSTART;TZID=Europe/Rome:20230302T213000
DTEND;TZID=Europe/Rome:20230302T234500
DTSTAMP:20230301T155136Z
URL:https://lazioeventi.com/eventi/161697
SUMMARY:E Tu come Stai? - Roma - 2 Marzo 23 21:30
DESCRIPTION:Nell'ambito della rassegna "Senza chiedere permesso"\, organizz
 ata da CinemaForte al C.S.O.A. Forte Prenestino su film di e su pratiche d
 i autogestione\, avrà luogo giovedì 2 marzo alle 21:30\, la prima proiez
 ione romana di E TU COME STAI?\, il documentario che racconta la vicenda d
 ei lavoratori della GKN Driveline Firenze\, girata a 4 mani da Lorenzo Enr
 ico Gori e Filippo Maria Gori.\n\nDopo l'anteprima al Festival di Popoli d
 i Firenze\, dove ha mietuto unanimi consensi di pubblico e critica\, arriv
 a dunque nella Capitale la storia che vuol far conoscere nei dettagli\, un
 a triste vicenda\, quella dell'imponente Collettivo di Fabbrica che il 9 l
 uglio 2021 ha visto\, senza nessun preavviso\, chiudere la fabbrica dove g
 li operai lavoravano da anni\, trovandosi improvvisamente per strada e che
  ha smobilitato centinaia di dipendenti per combattere una causa morale di
 venuta anche una questione di sopravvivenza. A filmarla in tempo reale\, a
 d appena due settimane dall'evento\, un padre e un figlio\, il cui diverso
  sguardo generazionale è confluito sincronicamente sull'esigenza di docum
 entare lucidamente\, passo passo\, questa lotta operaia.\n\n"Non era la pr
 ima volta che entravamo in una fabbrica per documentare la contestazione d
 ei lavoratori e delle lavoratrici vittime di licenziamenti - affermano i G
 ori - ma già dalla prima intervista con Dario Salvetti (operaio e delegat
 o Rsu) abbiamo capito che la lucidità e l'organizzazione del Collettivo d
 i Fabbrica GKN\, nonché la capacità di analisi dei lavoratori della loro
  situazione e del contesto economico e politico che l'aveva generata\, era
 no non comuni. Anzi\, erano decisamente straordinarie. Così abbiamo inizi
 ato a documentare cosa stesse accadendo dentro (e attorno) lo storico stab
 ilimento ex-Fiat di Campi Bisenzio."\n\nAl motto "Insorgiamo"\, i lavorato
 ri hanno occupato lo stabilimento\, vi hanno organizzato un presidio per g
 arantirne la sicurezza e hanno avviato una mobilitazione che ha coinvolto 
 l’intero territorio e altre lotte del paese. Per sfuggire a calcoli poli
 tici e finanziari calati dall’alto\, la comunità degli operai GKN si è
  ritrovata ad affrontare continui ostacoli\, raggiri e imprevisti. Più si
  andava avanti e più la lotta si è rivelata non solo uno strumento di di
 fesa ma anche un modo diverso di intendere la vita\, dove prendersi cura d
 egli altri costituisce il primo passo per la cura di sé.\n\n"Ci siamo chi
 esti a lungo - afferma il Collettivo di Fabbrica Gkn - se durante tutta qu
 esta lotta saremmo stati la cronaca di una delle tante storie di licenziam
 enti di questo paese o la storia di una vittoria quasi impossibile. La ver
 ità è che la cronaca si misura in giorni e la storia in anni. E questa d
 omanda non avrà probabilmente una riposta univoca e chiara per molto temp
 o. Allo stesso modo\, che questo documentario sia la cronaca di questa lot
 ta o un piccolo strumento per farne storia\, lo vedremo negli anni. E fors
 e lo rivedranno tra anni. Vada come vada\, in fondo\, un documentario di c
 lasse e sulla classe è sempre un piccolo grande avvenimento storico".\n\n
 "Il film racconta una vicenda emblematica con cura e forza emotiva - dichi
 ara Vincenzo Vita\, Presidente AAMOD - Qui la lotta di resistenza diventa 
 una sorta di autobiografia della nazione\, di un’Italia zeppa di precari
 ato e disoccupazione\, ma ciò che rende davvero straordinario questo prod
 otto decisamente estraneo al mainstream è il rapporto stretto e sinergico
  tra l’occhio professionale di chi gira e l’occhio di chi è l’ogget
 to cosciente della narrazione. Le persone così\, sempre autentiche\, assu
 rgono a protagoniste assolute\, come in una tragedia greca".\n\n"Grazie a 
 Lorenzo Enrico e Filippo Maria Gori siamo entrati nel vivo della fabbrica 
 e abbiamo ascoltato le voci degli operai e osservato la lotta in tutte le 
 sue fasi - ricorda l'Istituto De Martino. Questo film ci aiuterà a capire
  cosa è successo\, per costruire memoria di una vicenda esemplare e trasf
 ormare in patrimonio civile e democratico una straordinaria mobilitazione 
 di operai\, comitati\, territori."\n\nE tu come stai? è un documentario d
 iretto da Filippo Maria Gori e Lorenzo Enrico Gori con Collettivo di fabbr
 ica – Lavoratori GKN Firenze\; scrittura e montaggio di Filippo Maria Go
 ri\; fotografia di Filippo Maria Gori e Lorenzo Enrico Gori\; produzione c
 reativa di Luca Ricciardi\; montaggio del suono di Beatrice Mele\; mix di 
 Piero Fasoli\; color e titoli di Mauro Vicentini.\n\nIl film è co-prodott
 o da Archivio Audiovisivo del Movimento Operaio e Democratico e Istituto E
 rnesto de Martino e distribuito da OpenDDB – Distribuzioni dal basso che
  lo sta presentando in tutta Italia dallo scorso gennaio.\n\n\nE TU COME S
 TAI?\ndi Filippo Maria Gori e Lorenzo Enrico Gori\ncon Collettivo di fabbr
 ica – Lavoratori Gkn Firenze\n\nPRIMA ROMANA\nGiovedì 2 marzo - Ore 21:
 30\n\n\nTelefono +39 06 57305447 - e-mail eventi@aamod.it\nSito web: aamod
 .it
ATTACH;FMTTYPE=image/jpeg:https://lazioeventi.com/wp-content/uploads/2023/
 03/locandina-br-E-tu-come-stai.jpg
CATEGORIES:Musica, Spettacoli e Danza nel Lazio,Varie
LOCATION:Roma\, Via Leopardi\, Roma\, Roma\, Lazio\, Italia
GEO:41.8942;12.5017
X-APPLE-STRUCTURED-LOCATION;VALUE=URI;X-ADDRESS=Via Leopardi\, Roma\, Roma\
 , Lazio\, Italia;X-APPLE-RADIUS=100;X-TITLE=Roma:geo:41.8942,12.5017
END:VEVENT
BEGIN:VTIMEZONE
TZID:Europe/Rome
X-LIC-LOCATION:Europe/Rome
BEGIN:STANDARD
DTSTART:20221030T020000
TZOFFSETFROM:+0200
TZOFFSETTO:+0100
TZNAME:CET
END:STANDARD
END:VTIMEZONE
END:VCALENDAR