BEGIN:VCALENDAR
VERSION:2.0
PRODID:-//wp-events-plugin.com//7.2.3.1//EN
TZID:Europe/Rome
X-WR-TIMEZONE:Europe/Rome
BEGIN:VEVENT
UID:34348@lazioeventi.com
DTSTART;TZID=Europe/Rome;VALUE=DATE:20230304
DTEND;TZID=Europe/Rome;VALUE=DATE:20230313
DTSTAMP:20230302T193507Z
URL:https://lazioeventi.com/eventi/161762
SUMMARY:Mostra Arte Donna - Isola del Liri - 4 Marzo 23 00:00
DESCRIPTION:Da sabato 4 a domenica 12 marzo\, presso la galleria Pisani ad 
 Isola del Liri\, avrà luogo la mostra "Arte Donna"\, in occasione della F
 esta della Donna.\n\nL' evento ospiterà una mostra fotografica e artistic
 a\, che avrà come tema la figura della Donna rappresentata nelle diverse 
 forme d'arte. La mostra sarà curata da giovani ragazzi\, creando anche un
 ’occasione per far conoscere e dare spazio a giovani artisti del nostro 
 territorio.\n\nSABATO 4 ORE 15.00 - INAUGURAZIONE DELLA MOSTRA\n\nLa mostr
 a sarà fruibile nei giorni dal 4 al 12 durante gli orari di apertura al p
 ubblico della galleria
ATTACH;FMTTYPE=image/jpeg:https://lazioeventi.com/wp-content/uploads/2023/
 03/mostra_arte_donna2023.jpg
CATEGORIES:Arte e Cultura nel Lazio
LOCATION:Isola del Liri\, Comune\, Isola del Liri\, Frosinone\, Lazio\, Ita
 lia
GEO:41.6787;13.5741
X-APPLE-STRUCTURED-LOCATION;VALUE=URI;X-ADDRESS=Comune\, Isola del Liri\, F
 rosinone\, Lazio\, Italia;X-APPLE-RADIUS=100;X-TITLE=Isola del Liri:geo:41
 .6787,13.5741
END:VEVENT
BEGIN:VTIMEZONE
TZID:Europe/Rome
X-LIC-LOCATION:Europe/Rome
BEGIN:STANDARD
DTSTART:20221030T020000
TZOFFSETFROM:+0200
TZOFFSETTO:+0100
TZNAME:CET
END:STANDARD
END:VTIMEZONE
END:VCALENDAR