BEGIN:VCALENDAR
VERSION:2.0
PRODID:-//wp-events-plugin.com//7.2.3.1//EN
TZID:Europe/Rome
X-WR-TIMEZONE:Europe/Rome
BEGIN:VEVENT
UID:25946@lazioeventi.com
DTSTART:20250203T200000Z
DTEND:20250203T213000Z
DTSTAMP:20250110T092421Z
URL:https://lazioeventi.com/eventi/20-corso-di-fotografia
SUMMARY:Corso di fotografia - Formia - 3 Febbraio 25 21:00
DESCRIPTION:24° corso di fotografia digitale riconosciuto dalla FIAF.\n\nI
 l Corso comprende:\n- lezioni teoriche settimanali\n- uscite fotografiche 
 domenicali\n- lettura critica delle foto scattate dagli allievi\n- tutorag
 gio durante il corso e nella scelta del lavoro da esibire in mostra\n- mos
 tra finale degli allievi\n- consegna del diploma di partecipazione.\n\nLe 
 lezioni illustreranno il funzionamento delle macchine fotografiche digital
 i e degli obiettivi\, le tecniche di esposizione e composizione. Comprende
 ranno inoltre un approfondimento su ritratto e paesaggio\, un accenno alla
  postproduzione e al linguaggio fotografico.\n\ndal 3 febbraio 2025\nogni 
 lunedì dalle ore 21:00 presso l’Hotel Miramare di Formia\n\n€ 200 com
 prensivi di iscrizione al circolo\n\niscrizioni aperte\, posti limitati!\n
 \nper ulteriori chiarimenti e prenotazioni:\nMauro 3394182271 – Eline 32
 84358929\ncontatto FB: @altrosguardoformia\ncontatto IG: altrosguardo.form
 ia\ne-mail: altrosguardocorsi@gmail.com\n\n
ATTACH;FMTTYPE=image/jpeg:https://lazioeventi.com/wp-content/uploads/2020/
 01/locandina.jpg
CATEGORIES:Varie
LOCATION:Formia\, Comune\, Formia\, Latina\, Lazio\, Italia
GEO:41.2559;13.6059
X-APPLE-STRUCTURED-LOCATION;VALUE=URI;X-ADDRESS=Comune\, Formia\, Latina\, 
 Lazio\, Italia;X-APPLE-RADIUS=100;X-TITLE=Formia:geo:41.2559,13.6059
END:VEVENT
END:VCALENDAR