BEGIN:VCALENDAR
VERSION:2.0
PRODID:-//wp-events-plugin.com//7.2.3.1//EN
TZID:Europe/Rome
X-WR-TIMEZONE:Europe/Rome
BEGIN:VEVENT
UID:39674@lazioeventi.com
DTSTART;TZID=Europe/Rome:20240813T190000
DTEND;TZID=Europe/Rome:20240818T234500
DTSTAMP:20240724T054027Z
URL:https://lazioeventi.com/eventi/27-sagra-della-lumaca
SUMMARY:27^ Sagra della lumaca - Graffignano - 13 Agosto 24 19:00
DESCRIPTION:Torna a Graffignano\, in provincia di Viterbo la 27esima edizio
 ne della Sagra della Lumaca. La manifestazione si terrà nei giorni 13-14-
 15-16-17-18 agosto 2024.\nLa degustazione delle lumache cucinate secondo l
 e più antiche ricette tipiche dell'Alta Tuscia\, sarà accompagnata da ot
 timi vini della zona e non.\nInoltre il ricchissimo menù prevede carni al
 la brace\, lombrichelli all'aglione\, dolci e tanto altro.\nLe serate sara
 nno accompagnate da musica\, balli e non solo. Apertura stand gastronomico
  alle 19\,30.\n\nIl 17 agosto\, a cura dell'Ass.ne "Le Filo Sofìe" si ter
 rà "A Lume di Lumaca". Il borgo e il Castello si illumineranno con diecim
 ila fiammelle tremule\,\ncreando un quadro di una suggestione unica.
ATTACH;FMTTYPE=image/jpeg:https://lazioeventi.com/wp-content/uploads/2024/
 07/70100sagra.jpg
CATEGORIES:Sagre, Gastronomia e Tradizioni nel Lazio
LOCATION:Graffignano\, Comune\, Graffignano\, Viterbo\, Lazio\, Italia
GEO:42.5733;12.2043
X-APPLE-STRUCTURED-LOCATION;VALUE=URI;X-ADDRESS=Comune\, Graffignano\, Vite
 rbo\, Lazio\, Italia;X-APPLE-RADIUS=100;X-TITLE=Graffignano:geo:42.5733,12
 .2043
END:VEVENT
BEGIN:VTIMEZONE
TZID:Europe/Rome
X-LIC-LOCATION:Europe/Rome
BEGIN:DAYLIGHT
DTSTART:20240331T030000
TZOFFSETFROM:+0100
TZOFFSETTO:+0200
TZNAME:CEST
END:DAYLIGHT
END:VTIMEZONE
END:VCALENDAR