BEGIN:VCALENDAR
VERSION:2.0
PRODID:-//wp-events-plugin.com//7.2.3.1//EN
TZID:Europe/Rome
X-WR-TIMEZONE:Europe/Rome
BEGIN:VEVENT
UID:32273@lazioeventi.com
DTSTART;TZID=Europe/Rome:20220916T190000
DTEND;TZID=Europe/Rome:20220917T010000
DTSTAMP:20220911T204219Z
URL:https://lazioeventi.com/eventi/3-festa-della-birra-artigianale
SUMMARY:3* Festa della birra artigianale - Segni - 16 Settembre 22 19:00
DESCRIPTION:Siamo pronti per la 3ª Edizione della Festa della Birra Artigi
 anale a Segni. Un weekend all'insegna del divertimento con degustazioni di
  birre artigianali italiane ed europee\, street food e musica live.\nDuran
 te l'evento verranno raccolti fondi\nda destinare all'Associazione AVITA O
 nlus.\nInoltre nelle due serate verranno presentate la prima squadra del S
 egni Calcio (venerdì 16) e la prima squadra del Segni Rugby (sabato 17).\
 n\nApertura stand gastronomici: Ore 19:00\n\nLocation: Piazza Risorgimento
 \, Segni (RM)\nInfo :33Centilitri\n__\n\nEvento in collaborazione con Birr
 ificio Lepino Bar CentraleLa Locca d'Oro La Miangola Officina del Saraceno
  - Zafferano Saraceno
ATTACH;FMTTYPE=image/jpeg:https://lazioeventi.com/wp-content/uploads/2022/
 09/99962B47-F711-4777-B049-0107C51CD225.jpeg
CATEGORIES:Musica, Spettacoli e Danza nel Lazio,Sagre, Gastronomia e
 Tradizioni nel Lazio,Varie
LOCATION:Segni\, Comune\, Segni\, Roma\, Lazio\, Italia
GEO:41.6917;13.0227
X-APPLE-STRUCTURED-LOCATION;VALUE=URI;X-ADDRESS=Comune\, Segni\, Roma\, Laz
 io\, Italia;X-APPLE-RADIUS=100;X-TITLE=Segni:geo:41.6917,13.0227
END:VEVENT
BEGIN:VTIMEZONE
TZID:Europe/Rome
X-LIC-LOCATION:Europe/Rome
BEGIN:DAYLIGHT
DTSTART:20220327T030000
TZOFFSETFROM:+0100
TZOFFSETTO:+0200
TZNAME:CEST
END:DAYLIGHT
END:VTIMEZONE
END:VCALENDAR