BEGIN:VCALENDAR
VERSION:2.0
PRODID:-//wp-events-plugin.com//7.2.3.1//EN
TZID:Europe/Rome
X-WR-TIMEZONE:Europe/Rome
BEGIN:VEVENT
UID:30240@lazioeventi.com
DTSTART:20210404T150000Z
DTEND:20210531T190000Z
DTSTAMP:20220328T152012Z
URL:https://lazioeventi.com/eventi/3
SUMMARY:3 - Gaeta - 4 Aprile 21 16:00
DESCRIPTION:Lo spazio e il tempo della memoria Compie Sessanta anni Il Port
 icato Gaetano: una delle più longeve manifestazioni artistiche d’Italia
 . I fondatori\, un gruppetto di artisti del circolo “Amici dell’Arte M
 ario Lieto” formato da Manlio Alfieri\,
ATTACH;FMTTYPE=image/jpeg:https://lazioeventi.com/wp-content/uploads/2022/
 03/invitor.jpg
CATEGORIES:Arte e Cultura nel Lazio
LOCATION:Gaeta\, Comune\, Gaeta\, Latina\, Lazio\, Italia
GEO:41.2138166;13.571388500000012
X-APPLE-STRUCTURED-LOCATION;VALUE=URI;X-ADDRESS=Comune\, Gaeta\, Latina\, L
 azio\, Italia;X-APPLE-RADIUS=100;X-TITLE=Gaeta:geo:41.2138166,13.571388500
 000012
END:VEVENT
END:VCALENDAR