BEGIN:VCALENDAR
VERSION:2.0
PRODID:-//wp-events-plugin.com//7.2.3.1//EN
TZID:Europe/Rome
X-WR-TIMEZONE:Europe/Rome
BEGIN:VEVENT
UID:43921@lazioeventi.com
DTSTART;TZID=Europe/Rome:20260308T163000
DTEND;TZID=Europe/Rome:20260308T180000
DTSTAMP:20260304T104251Z
URL:https://lazioeventi.com/eventi/333-porcellini
SUMMARY:333 porcellini - Roma - 8 Marzo 26 16:30
DESCRIPTION:Domenica 8 marzo alle 16.30\, per la rassegna Infanzie in gioco
  2025-2026 a Centrale Preneste Teatro (Via Alberto da Giussano\, 58 a Roma
  in zona Pigneto/Malatesta) è in arrivo da Vicenza La Piccionaia Centro d
 i Produzione Teatrale che porta in scena lo spettacolo 333 porcellini. Il 
 testo è di Andrea Falcone\, la regia di Giacomo Bogani\, sul palco ci son
 o Giacomo Bogani\, Elisa Vitiello e Julio Escamilla.\n\nUna nuova narrazio
 ne della favola tradizionale per portare il racconto fiabesco nella contem
 poraneità\, senza perdere la sua magia. In questa narrazione\, il grande 
 lupo cattivo ci offre uno specchio in cui guardarci: una società adulta c
 he\, con la sua routine minacciosa\, rischia di buttare giù ogni cosa\, a
  partire dalle case dei più fragili. I porcellini\, piccole creature che 
 parlano\, si aiutano e resistono al vento lupesco\, assomigliano a un'uman
 ità nuova\, una società futura\, fatta di bambine e bambini pronte e pro
 nti a darsi una mano. Questa messa in scena nasce per celebrare e coltivar
 e il loro sguardo partecipe\, la loro curiosità\, la naturale propensione
  a prendersi cura di quello che li circonda.\n\nAdatto dai 3 anni.\n\nIl c
 osto del biglietto è di 7 euro. Acquisto esclusivamente on-line su www.ce
 ntraleprenesteteatro.it/calendario-eventi o in biglietteria il giorno dell
 o spettacolo dalle ore 16.00 previa disponibilità dei posti.\n\nLa Piccio
 naia Centro di Produzione Teatrale\n333 porcellini\nTesto: Andrea Falcone\
 nRegia: Giacomo Bogani\nCon Giacomo Bogani\, Elisa Vitiello\, Julio Escami
 lla\nMusiche: Alberto Pretto\nDisegno luci: Julio Escamilla\nElementi scen
 ici: Giacomo Lorenzoni\nCostumi: Noemi Coraggio\nProduzione La Piccionaia 
 Centro di Produzione Teatrale\n\nDomenica 8 marzo 2026 alle 16.30\nCentral
 e Preneste Teatro Via Alberto da Giussano\, 58 – Roma (Pigneto/Malatesta
 )\nBiglietto unico: 7.00 €\nAcquisto esclusivamente on-line su www.centr
 aleprenesteteatro.it/calendario-eventi o in biglietteria il giorno dello s
 pettacolo dalle ore 16.00 previa disponibilità dei posti.\nInformazioni: 
 0627801063 lun/ven 10.00–17.00\ninfo@ruotalibera.eu -www.centraleprenest
 eteatro.it\nFB www.facebook.com/CentralePrenesteTeatro\nIG www.instagram.c
 om/centralepreneste/\n
ATTACH;FMTTYPE=image/jpeg:https://lazioeventi.com/wp-content/uploads/2026/
 03/333porcellini-44.jpg
CATEGORIES:Musica, Spettacoli e Danza nel Lazio
LOCATION:Roma\, Via Leopardi\, Roma\, Roma\, Lazio\, Italia
GEO:41.8942;12.5017
X-APPLE-STRUCTURED-LOCATION;VALUE=URI;X-ADDRESS=Via Leopardi\, Roma\, Roma\
 , Lazio\, Italia;X-APPLE-RADIUS=100;X-TITLE=Roma:geo:41.8942,12.5017
END:VEVENT
BEGIN:VTIMEZONE
TZID:Europe/Rome
X-LIC-LOCATION:Europe/Rome
BEGIN:STANDARD
DTSTART:20251026T020000
TZOFFSETFROM:+0200
TZOFFSETTO:+0100
TZNAME:CET
END:STANDARD
END:VTIMEZONE
END:VCALENDAR