BEGIN:VCALENDAR
VERSION:2.0
PRODID:-//wp-events-plugin.com//7.2.3.1//EN
TZID:Europe/Rome
X-WR-TIMEZONE:Europe/Rome
BEGIN:VEVENT
UID:43962@lazioeventi.com
DTSTART;TZID=Europe/Rome:20260314T170000
DTEND;TZID=Europe/Rome:20260314T193000
DTSTAMP:20260309T081643Z
URL:https://lazioeventi.com/eventi/a-borrowed-window-solo-show-by-daniel-b
 -dias
SUMMARY:A Borrowed Window - Solo Show by Daniel B. Dias - Roma - 14 Marzo 2
 6 17:00
DESCRIPTION:DCG Rome è lieta di presentare la sua prima collaborazione co
 n il pittore Daniel B. Dias. Nato a São Paulo\, in Brasile\, nel 1987 
 e attualmente attivo a livello internazionale\, Dias è un artista autod
 idatta le cui opere figurative neo-surrealiste si muovono tra memoria e im
 maginazione.\n\nI suoi personaggi enigmatici\, spesso sospesi tra culture\
 , ricordi e sogni\, trasmettono un senso di dislocamento\, introspezione e
  desiderio universale. Grazie a un percorso di vita multiculturale tra Bra
 sile\, Stati Uniti e Cina\, Dias fonde la tecnica pittorica classica con 
 una visione contemporanea e psicologica\, dando vita a tele che esplorano 
 identità\, relazioni umane e i fili invisibili che legano persone\, tempo
  e memoria.
ATTACH;FMTTYPE=image/jpeg:https://lazioeventi.com/wp-content/uploads/2026/
 03/dorothycircusgallery-daniel-b.-dias-the-blue-mark-2023.webp
CATEGORIES:Arte e Cultura nel Lazio
LOCATION:Roma\, Via Leopardi\, Roma\, Roma\, Lazio\, Italia
GEO:41.8942;12.5017
X-APPLE-STRUCTURED-LOCATION;VALUE=URI;X-ADDRESS=Via Leopardi\, Roma\, Roma\
 , Lazio\, Italia;X-APPLE-RADIUS=100;X-TITLE=Roma:geo:41.8942,12.5017
END:VEVENT
BEGIN:VTIMEZONE
TZID:Europe/Rome
X-LIC-LOCATION:Europe/Rome
BEGIN:STANDARD
DTSTART:20251026T020000
TZOFFSETFROM:+0200
TZOFFSETTO:+0100
TZNAME:CET
END:STANDARD
END:VTIMEZONE
END:VCALENDAR