BEGIN:VCALENDAR
VERSION:2.0
PRODID:-//wp-events-plugin.com//7.2.3.1//EN
TZID:Europe/Rome
X-WR-TIMEZONE:Europe/Rome
BEGIN:VEVENT
UID:40752@lazioeventi.com
DTSTART;TZID=Europe/Rome:20250222T150000
DTEND;TZID=Europe/Rome:20250222T180000
DTSTAMP:20250211T084607Z
URL:https://lazioeventi.com/eventi/a-carnevale-del-medioevo-il-cibo-di-gra
 sso
SUMMARY:A Carnevale del medioevo: il cibo di grasso - Tarquinia - 22 Febbra
 io 25 15:00
DESCRIPTION:𝐈𝐓𝐈𝐍𝐄𝐑𝐀𝐑𝐈 𝐃𝐈 𝐀𝐑𝐓𝐄\
 , 𝐄𝐃𝐔𝐂𝐀𝐙𝐈𝐎𝐍𝐄 𝐄 𝐆𝐀𝐒𝐓𝐑𝐎
 𝐍𝐎𝐌𝐈𝐀 𝐃𝐈 𝐅𝐄𝐁𝐁𝐑𝐀𝐈𝐎\nAlla scope
 rta della Tarquinia medievale\, tra arte\, gastronomia e giochi di ruolo\,
  con un programma ricco di iniziative promosso dall'Assessorato alle Aree 
 archeologiche\, Biblioteca e Archivio per far conoscere uno dei periodi ch
 e ha più segnato la storia della città.\n\nIl 𝟭𝟲 𝗳𝗲𝗯𝗯
 𝗿𝗮𝗶𝗼\, partenza alle 10 da palazzo Vitelleschi\, torna “𝗔
 𝗹 𝘁𝗿𝗮𝗺𝗼𝗻𝘁𝗼 𝗱𝗲𝗹 𝗺𝗲𝗱𝗶𝗼
 𝗲𝘃𝗼. 𝗖𝗼𝗿𝗻𝗲𝘁𝗼 𝗲 𝗶𝗹 𝘀𝘂𝗼 𝗰
 𝗮𝗿𝗱𝗶𝗻𝗮𝗹𝗲" la visita guidata curata da Isa Bianchi\
 , per ammirare alcuni luoghi del centro storico parte integrante della mos
 tra “1437. La Madonna di Filippo Lippi\, Tarquinia e il cardinale Vitell
 eschi”\, che vede il capolavoro dell’artista fiorentino esposto fino a
 l 4 marzo 2025 negli ambienti del Museo Nazionale Archeologico. Sarà poss
 ibile ammirare il duomo\, la chiesa di Santa Maria in Castello\, il palazz
 etto di Santo Spirito\, sede dell’archivio storico comunale\, la sala de
 gli affreschi del palazzo comunale.\n\nIl 𝟮𝟮 𝗳𝗲𝗯𝗯𝗿
 𝗮𝗶𝗼\, alle 15\, i locali dell’infopoint alla Barriera San Giust
 o ospiteranno il laboratorio gastronomico “𝗔 𝗖𝗮𝗿𝗻𝗲𝘃
 𝗮𝗹𝗲 𝗻𝗲𝗹 𝗺𝗲𝗱𝗶𝗼𝗲𝘃𝗼: 𝗶𝗹 𝗰
 𝗶𝗯𝗼 𝗱𝗶 𝗴𝗿𝗮𝘀𝘀𝗼” tenuto dalla cuoca Vitto
 ria Tassoni\, in collaborazione con l’azienda agricola “Ape Velka” e
  l’erboristeria “Mirtilli e Merletti”.\n\nIl 𝟮𝟯 𝗳𝗲𝗯
 𝗯𝗿𝗮𝗶𝗼\, alle 15\, l’archivio storico comunale di piazza T
 itta Marini farà da teatro a un sorprendente gioco di ruolo interattivo t
 enuto da Luca Polidoro\, esperto di beni archivistici e librari.\n\n𝐓
 𝐚𝐫𝐢𝐟𝐟𝐞 𝐞 𝐚𝐛𝐛𝐨𝐧𝐚𝐦𝐞𝐧𝐭𝐢
 :\n• Biglietto adulti: 12 euro\n• Biglietto ragazzi (13-18 anni): 6 eu
 ro\n• Biglietto bambini (6-11 anni): 0 euro\n• Abbonamento adulti a tr
 e eventi: 30 euro\n• Abbonamento ragazzi a tre eventi: 15 euro\n\n𝐈
 𝐧𝐟𝐨 𝐩𝐫𝐚𝐭𝐢𝐜𝐡𝐞:\nPer la partecipazione dei 
 minori è richiesta la presenza di un adulto pagante e gli abbonamenti non
  sono nominativi. Per i due eventi laboratoriali è previsto un numero mas
 simo di 15 iscritti.\n\n𝐈𝐧𝐟𝐨 𝐞 𝐩𝐫𝐞𝐧𝐨𝐭𝐚
 𝐳𝐢𝐨𝐧𝐢:\nPer maggiori dettagli e prenotazioni\, è possibile
  contattare l'Infopoint al numero 0766.849282 o alla mail turismotarquinia
 @gmail.com.\nE’ possibile anche prenotare online al link https://tinyurl
 .com/tarquinia-biglietti
ATTACH;FMTTYPE=image/jpeg:https://lazioeventi.com/wp-content/uploads/2025/
 02/itinerari-gusto-tarquinia.jpg
CATEGORIES:Arte e Cultura nel Lazio,Varie
LOCATION:Tarquinia\, Comune\, Tarquinia\, Viterbo\, Lazio\, Italia
GEO:42.2546;11.7584
X-APPLE-STRUCTURED-LOCATION;VALUE=URI;X-ADDRESS=Comune\, Tarquinia\, Viterb
 o\, Lazio\, Italia;X-APPLE-RADIUS=100;X-TITLE=Tarquinia:geo:42.2546,11.758
 4
END:VEVENT
BEGIN:VTIMEZONE
TZID:Europe/Rome
X-LIC-LOCATION:Europe/Rome
BEGIN:STANDARD
DTSTART:20241027T020000
TZOFFSETFROM:+0200
TZOFFSETTO:+0100
TZNAME:CET
END:STANDARD
END:VTIMEZONE
END:VCALENDAR