BEGIN:VCALENDAR
VERSION:2.0
PRODID:-//wp-events-plugin.com//7.2.3.1//EN
TZID:Europe/Rome
X-WR-TIMEZONE:Europe/Rome
BEGIN:VEVENT
UID:40428@lazioeventi.com
DTSTART;TZID=Europe/Rome:20241212T000000
DTEND;TZID=Europe/Rome:20241215T000000
DTSTAMP:20241210T101030Z
URL:https://lazioeventi.com/eventi/a-lucky-siesta
SUMMARY:A Lucky Siesta - Roma - 12 Dicembre 24 00:00
DESCRIPTION:A LUCKY SIESTA\n(COMMEDIA MULTILINGUE)\n\ndi: Francesco Baj\nRe
 gia: Flavio Marigliani\nCon: Tracy Walsh Caputo\, Felipe Jaroba\, Martina 
 Angelucci\,\ne Duné Medros.\nProduzione: Teatro Multilingue\n\nDA GIOVEDI
  12 A DOMENICA 15 DICEMBRE 2024\n\nApproda finalmente a Teatrosophia\, la 
 versione “romana” della commedia che ha conquistato Madrid. Quattro co
 inquilini e un biglietto vincente della lotteria che nessuno trova…\n\nU
 na ragazza romana appena rientrata in città\, il suo ragazzo cileno che l
 ’ha seguita\, un’americana più grande di loro in cerca di una nuova v
 ita e\, da qualche settimana\, una ragazza dalla Francia di origini irania
 ne… una barzelletta? No\, i quattro improbabili coinquilini in un appart
 amento del centro di Roma. Per scherzo giocano alla lotteria\, e vincono\,
  ma lo scherzo finisce quando\, al risveglio dopo una notte di baldorie\, 
 il biglietto vincente è scomparso. Chi ce l’ha? Nel frattempo\, c’è 
 chi vuole comprare casa per farne un B&amp\;B e la tensione aumenta. Inizi
 a così un viaggio\, multilingue\, per la penisola\, dalla Città Eterna v
 erso nord\, per attraversare le Alpi…\n\nAmicizia\, lavoro (ufficiale e 
 non)\, sogni personali però poi servono soldi per realizzarli\, un mercat
 o immobiliare impazzito che sembra offrire soluzioni\, e il turismo di mas
 sa in città che assomigliano sempre più a musei… “Perché\, alla fin
 e\, a chi appartiene questa città?”\n\nINFORMAZIONI\n\nLa commedia è s
 critta e recitata in italiano\, English\, español\, français e qualche b
 attuta in Farsi (Persiano)\, ma non serve assolutamente conoscere tutte le
  lingue per seguire la storia e divertirsi! Forza\, lasciati sorprendere d
 all’effetto del multilingue!\n\nTeatro Multilingue è l’unica compagni
 a internazionale dedicata interamente alla produzione di opere teatrali e 
 cinematografiche multilingue nelle quali i personaggi utilizzano varie lin
 gue all’interno della stessa storia\, in maniera logica e organica così
  che la trama risulti naturale e comprensibile anche per chi non conosce t
 utte le lingue utilizzate. Attivi dal 2020\, siamo stati live a Roma\, Lon
 dra\, Bristol\, Madrid\, Francia\, Lussemburgo\, Catania\, Atene e Götebo
 rg.\n\nE dopo ogni spettacolo il consueto aperitivo offerto dal teatro!\n\
 nInfo &amp\; Prenotazioni:\n\nA LUCKY SIESTA\nDi Francesco Baj\n\nSito web
 : https://teatromultilingue.com/\n\nOrari:\nGiovedì e venerdì h 21:00/sa
 bato e domenica h 18:00\n\nBiglietti:\nIntero: Euro 14\,00+5\,00 per tesse
 ra associativa/ Ridotto: Euro 11\,00+5\,00 per tessera associativa\n\nPren
 otazioni:\nhttps://teatrosophia.it/index.php/le-stagioni/2024-2025?view=ar
 ticle&amp\;id=68&amp\;catid=9\n\nN.B: Per accedere alla prenotazione è ne
 cessaria la registrazione all’Associazione Culturale Teatrosophia per la
  sottoscrizione della tessera associativa che sarà valida per tutta la st
 agione 2024/2025.\n\n\nRadio Danza è media partner di Teatrosophia
ATTACH;FMTTYPE=image/jpeg:https://lazioeventi.com/wp-content/uploads/2024/
 12/Locandina-2.jpg
CATEGORIES:Musica, Spettacoli e Danza nel Lazio
LOCATION:Roma\, Via Leopardi\, Roma\, Roma\, Lazio\, Italia
GEO:41.8942;12.5017
X-APPLE-STRUCTURED-LOCATION;VALUE=URI;X-ADDRESS=Via Leopardi\, Roma\, Roma\
 , Lazio\, Italia;X-APPLE-RADIUS=100;X-TITLE=Roma:geo:41.8942,12.5017
END:VEVENT
BEGIN:VTIMEZONE
TZID:Europe/Rome
X-LIC-LOCATION:Europe/Rome
BEGIN:STANDARD
DTSTART:20241027T020000
TZOFFSETFROM:+0200
TZOFFSETTO:+0100
TZNAME:CET
END:STANDARD
END:VTIMEZONE
END:VCALENDAR