BEGIN:VCALENDAR
VERSION:2.0
PRODID:-//wp-events-plugin.com//7.2.3.1//EN
TZID:Europe/Rome
X-WR-TIMEZONE:Europe/Rome
BEGIN:VEVENT
UID:34963@lazioeventi.com
DTSTART;TZID=Europe/Rome:20230414T180000
DTEND;TZID=Europe/Rome:20230420T200000
DTSTAMP:20230404T151309Z
URL:https://lazioeventi.com/eventi/a-nudo-mostra-personale-di-marzia-musca
 tello
SUMMARY:"A nudo" Mostra personale di Marzia Muscatello - Roma - 14 Aprile 2
 3 18:00
DESCRIPTION:a cura di Chiara Quintavalla\nDal 14 -20 aprile 2023 Medina Art
  Gallery presenta “A nudo”\, mostra personale di Marzia Muscatello nel
 la galleria di Via Merulana 220 a Roma.\nL’evento di opening si terrà i
 l giorno 14 aprile 2023 alle ore 18:00 in via Merulana 220 con la presenta
 zione della curatrice Chiara Quintavalla.\nMarzia Muscatello è una visua
 l artist che vive a Roma e raffigura personaggi femminili e la loro lotta 
 per la sopravvivenza\, come strumento biografico per liberare i propri sen
 timenti e pesi. Autodidatta\, ha sviluppato uno stile unico che riflette i
 l suo approccio istintivo e intuitivo all'arte. La mostra A Nudo ripercorr
 e l'evoluzione artistica di Marzia Muscatello dai primi anni del liceo fin
 o ai suoi dipinti più recenti e introspettivi. Il titolo della mostra si
  basa sull'espressione “mettersi a nudo” che implica il rivelarsi per 
 ciò che si è veramente\, evidenziando l'uso del corpo femminile nudo c
 ome tema centrale delle opere di Marzia Muscatello.\n“Nei suoi dipinti\,
  Marzia Muscatello crea un mondo di figure femminili che servono da alter 
 ego di sé stessa. Questi personaggi incarnano le emozioni\, le paure e i 
 desideri più profondi dell'artista e fungono da potenti simboli della for
 za vitale\, della resilienza e dell'emancipazione femminile.\nLa sua arte 
 serve come strumento biografico per dare sfogo ai suoi sentimenti e pesi p
 rofondi e come sfida per scoprire le complessità del suo io interiore.\nM
 arzia Muscatello è stata profondamente influenzata dall'iconica pittrice 
 messicana Frida Kahlo.\nCome Kahlo\, l'artista è affascinata dal potere d
 ell'arte di esprimere la complessità dell'esperienza umana e di rivelare 
 i segreti più intimi e le passioni dell'anima.\nPur trattando temi oscuri
  come il dolore\, la sofferenza e l'auto sabotaggio\, le opere dell'artist
 a sono intrise di un senso di speranza e positività che riflette la sua f
 ede incrollabile nel potere trasformativo dell'arte.”\nIn breve:\nTitolo
  Mostra: “A nudo”\nArtista: Marzia Muscatello\nOpening Mostra: venerd
 ì 14 aprile alle ore 18:00.\nDurata Mostra: dal 14-20 aprile 2023.\nLuogo
 : Medina Art Gallery | Via Merulana 220 | 00184 – Roma\nContatti Medina 
 Roma Art Gallery:\nE-mail: info@medinaroma.com - Tel. +39 06 960 30 764\nW
 ebsite: https://www.medinaroma.com/\nSocial: facebook.com/medinaroma.arte 
 / instagram.com/medinaroma.arte\nOrario apertura: Dal lunedì al venerdì 
 10:00-13:00 e 15:00-19:00
ATTACH;FMTTYPE=image/jpeg:https://lazioeventi.com/wp-content/uploads/2023/
 04/Locandina.jpg
CATEGORIES:Arte e Cultura nel Lazio
LOCATION:Roma\, Via Leopardi\, Roma\, Roma\, Lazio\, Italia
GEO:41.8942;12.5017
X-APPLE-STRUCTURED-LOCATION;VALUE=URI;X-ADDRESS=Via Leopardi\, Roma\, Roma\
 , Lazio\, Italia;X-APPLE-RADIUS=100;X-TITLE=Roma:geo:41.8942,12.5017
END:VEVENT
BEGIN:VTIMEZONE
TZID:Europe/Rome
X-LIC-LOCATION:Europe/Rome
BEGIN:DAYLIGHT
DTSTART:20230326T030000
TZOFFSETFROM:+0100
TZOFFSETTO:+0200
TZNAME:CEST
END:DAYLIGHT
END:VTIMEZONE
END:VCALENDAR