BEGIN:VCALENDAR
VERSION:2.0
PRODID:-//wp-events-plugin.com//7.2.3.1//EN
TZID:Europe/Rome
X-WR-TIMEZONE:Europe/Rome
BEGIN:VEVENT
UID:28191@lazioeventi.com
DTSTART;TZID=Europe/Rome:20210313T163000
DTEND;TZID=Europe/Rome:20210313T174500
DTSTAMP:20210312T174921Z
URL:https://lazioeventi.com/eventi/a-passeggio-con-dante
SUMMARY:A passeggio con Dante - Viterbo - 13 Marzo 21 16:30
DESCRIPTION:La Città di Viterbo ed il suo ruolo da protagonista nel Medioe
 vo\, il lungo conclave\, le lotte tra le fazioni cittadine e un assassinio
  celebre ricordato da Dante nel XII Canto dell'Inferno.\n\nNel centenario 
 di Dante rivivremo insieme i drammatici attimi dell'efferato omicidio di E
 nrico di Cornovaglia nella scenografica Piazza del Gesù.\nVi aspettiamo\n
 \nLa visita inizierà alle 16:30\, il lungo di appuntamento è il nostro U
 fficio in piazza Martiri d'Ungheria.\n\nSi andrà quindi in direzione di S
 an Pellegrino tramite Piazza del Plebiscito e Via San Lorenzo. Molta della
  nostra attenzione sarà dedicata a Piazza del Gesù ed alla storia che si
  intrecciò con la poesia di Dante nella Divina Commedia.\n\nInfine Piazza
  della Morte e come ultima tappa Piazza San Lorenzo.\nLì ci saluteremo\n\
 nPer partecipare puoi:\n-chiamaci allo 0761226427\n-inviare una mail all'i
 ndirizzo info@visit.viterbo.it\n-scriverci un messaggio su WhatsApp al 34
 93619681
ATTACH;FMTTYPE=image/jpeg:https://lazioeventi.com/wp-content/uploads/2021/
 03/11-3-dante.jpg
CATEGORIES:Arte e Cultura nel Lazio
LOCATION:Viterbo\, Comune\, Viterbo\, Viterbo\, Lazio\, Italia
GEO:42.417;12.1051
X-APPLE-STRUCTURED-LOCATION;VALUE=URI;X-ADDRESS=Comune\, Viterbo\, Viterbo\
 , Lazio\, Italia;X-APPLE-RADIUS=100;X-TITLE=Viterbo:geo:42.417,12.1051
END:VEVENT
BEGIN:VTIMEZONE
TZID:Europe/Rome
X-LIC-LOCATION:Europe/Rome
BEGIN:STANDARD
DTSTART:20201025T020000
TZOFFSETFROM:+0200
TZOFFSETTO:+0100
TZNAME:CET
END:STANDARD
END:VTIMEZONE
END:VCALENDAR