BEGIN:VCALENDAR
VERSION:2.0
PRODID:-//wp-events-plugin.com//7.2.3.1//EN
TZID:Europe/Rome
X-WR-TIMEZONE:Europe/Rome
BEGIN:VEVENT
UID:42637@lazioeventi.com
DTSTART;TZID=Europe/Rome;VALUE=DATE:20251004
DTEND;TZID=Europe/Rome;VALUE=DATE:20251006
DTSTAMP:20251002T081347Z
URL:https://lazioeventi.com/eventi/a-roma-di-comunita
SUMMARY:A/Roma di Comunità - Roma - 4 Ottobre 25 00:00
DESCRIPTION:Prosegue  A/Roma di Comunità\, un progetto a cura di Disambigu
 a APS  nei Municipi XI e XII  di Roma Capitale.\nGli appuntamenti di sabat
 o 4 e domenica 5 ottobre sono a Ponte Galeria con il format Ponte Ponente:
  tante attività per tutta la famiglia.\n\nINGRESSO LIBERO\n\n“A/Roma di
  Comunità” a cura di Disambigua APS è una manifestazione che promuove 
 la rigenerazione urbana e l’attivazione sociale attraverso l’arte\, la
  cucina e la convivialità in vari spazi del Municipio XI e XII di Roma Ca
 pitale. Tutti gli eventi sono a ingresso libero\, per informazioni: 338595
 6630 o associazionedisambigua@gmail.com\n\nPer il weekend del 4 e 5 ottobr
 e “A/Roma di Comunità” è a Ponte Galeria\, all’interno del Giardin
 o Allevi (Via Giuseppe Albenga) nel Municipio XI di Roma\, dove sono in pr
 ogramma nuovi appuntamenti dedicati a tutta la famiglia con Ponte Ponente.
 \n\nSi comincia sabato 4 ottobre alle 16.00 con Maga Mary e il suo laborat
 orio di giochi e animazione per bambini di tutte le età\, le favole del m
 agico teatrino e tante bolle di sapone che fanno sognare. Sempre alle 16.0
 0 trucca bimbi a cura di Marilu’.\n\nDomenica 5 ottobre la mattina dalle
  11.00 alle 13.00 è la volta di "Cartoni animali”\, un allestimento di 
 grandi sculture di cartapesta a cura di Officine Perfareungioco\, dove gra
 ndi e bambini sono invitati a dipingere insieme. Sempre dalle 11.00 in cal
 endario “Aria di Cuba”\, un laboratorio musicale interattivo con il tr
 ombettista Miguel Jimenez Diaz. Dalle 15.00 alle 18.00 è in programma l'a
 llestimento di uno spazio di scambio giochi\, letture e sostegno alla geni
 torialità a cura di Natinsieme Villaggio Per crescere. Alle 16.00 c'è un
  laboratorio di fumetti per ragazzi a cura di Arf: guidati da Lorenzo Maga
 lotti i partecipanti impareranno a disegnare e a caratterizzare i loro per
 sonaggi preferiti.\n\nGiardino Allievi a Ponte Galeria - Via Giuseppe Albe
 nga - Municipio XI Roma\n\nPercorso sostenibile: Treno FL1\, FL5 Stazione 
 Ponte Galeria - Autobus 808\, 89\n\nIl programma completo al link: www.par
 cobonelli.it/a-roma\n\nA/Roma di Comunità prosegue fino al 20 dicembre 20
 25\, tutti gli eventi sono gratuiti.\n\nPer informazioni: 3385956630 - ass
 ociazionedisambigua@gmail.com \n\nFB www.facebook.com/Disambiguas\n\nIG ww
 w.instagram.com/disambigua_aps/
ATTACH;FMTTYPE=image/jpeg:https://lazioeventi.com/wp-content/uploads/2025/
 10/CARTONI-animali-new.jpg
CATEGORIES:Musica, Spettacoli e Danza nel Lazio,Sport, Tempo Libero e
 Divertimento nel Lazio,Varie
LOCATION:Roma\, Via Leopardi\, Roma\, Roma\, Lazio\, Italia
GEO:41.8942;12.5017
X-APPLE-STRUCTURED-LOCATION;VALUE=URI;X-ADDRESS=Via Leopardi\, Roma\, Roma\
 , Lazio\, Italia;X-APPLE-RADIUS=100;X-TITLE=Roma:geo:41.8942,12.5017
END:VEVENT
BEGIN:VTIMEZONE
TZID:Europe/Rome
X-LIC-LOCATION:Europe/Rome
BEGIN:DAYLIGHT
DTSTART:20250330T030000
TZOFFSETFROM:+0100
TZOFFSETTO:+0200
TZNAME:CEST
END:DAYLIGHT
END:VTIMEZONE
END:VCALENDAR