BEGIN:VCALENDAR
VERSION:2.0
PRODID:-//wp-events-plugin.com//7.2.3.1//EN
TZID:Europe/Rome
X-WR-TIMEZONE:Europe/Rome
BEGIN:VEVENT
UID:28754@lazioeventi.com
DTSTART;TZID=Europe/Rome:20211017T100000
DTEND;TZID=Europe/Rome:20211017T120000
DTSTAMP:20211014T133747Z
URL:https://lazioeventi.com/eventi/a-spasso-con-gli-imperatori-3
SUMMARY:A spasso con gli Imperatori - Roma - 17 Ottobre 21 10:00
DESCRIPTION:Vi condurrò in una gradevole passeggiata archeologica nel cent
 ro politico dell’antica Roma.\nInizieremo dall’imponente anfiteatro Fl
 avio\, conosciuto in tutto il mondo con il nome di Colosseo\, ma perché 
 è chiamato in questo modo? Lo scopriremo durante lanostra visita.\nAttrav
 erseremo il centro politico ed economico dell'antica Roma\, i Fori Imperia
 li costruiti dai più grandi imperatori che hanno plasmato la Caput Mundi.
  Il foro di Cesare con il tempio di Venere Genitrice\, il foro di Augusto 
 con il tempio dedicato al dio Marte\, il Foro di Nerva e della Pace\, ed i
 nfine il più grandioso di tutti\, il Foro di Traiano con la sua bellissim
 a colonna.\nSaliremo poi sulla collina del Campidoglio\, ricca di leggende
 \, la più famosa delle quali è quella delle oche capitoline tanto sacre 
 alla dea Giunone\, ne sveleremo la storia\, ammirando la piazza rinascimen
 tale progettata dal divin Michelangelo Buonarroti.\n\nAppuntamento METRO C
 OLOSSEO LINEA B.\n\nDurata visita guidata: 2h:00. – Dalle 10:00 alle 12:
 00.\n\nCosto visita guidata: 10 euro adulti\, 5 euro ragazzi fino a 18 ann
 i\, gratis bambini fino a dieci anni.\n\nEventuali auricolari:2 euro a per
 sona.\n\nPer prenotazione chiama il numero 335.81.45.599 nunzia o scrivi a
 lla mail:\nnunzarbol@gmail.com specificando nome\, numero persone e recapi
 to telefonico.\nN.B. La prenotazione è indispensabile per ricevere confer
 ma.\n\nNon  necessario il green pass.
ATTACH;FMTTYPE=image/jpeg:https://lazioeventi.com/wp-content/uploads/2021/
 10/fori-imperiali2.jpg
CATEGORIES:Arte e Cultura nel Lazio
LOCATION:Roma\, Via Leopardi\, Roma\, Roma\, Lazio\, Italia
GEO:41.8942;12.5017
X-APPLE-STRUCTURED-LOCATION;VALUE=URI;X-ADDRESS=Via Leopardi\, Roma\, Roma\
 , Lazio\, Italia;X-APPLE-RADIUS=100;X-TITLE=Roma:geo:41.8942,12.5017
END:VEVENT
BEGIN:VTIMEZONE
TZID:Europe/Rome
X-LIC-LOCATION:Europe/Rome
BEGIN:DAYLIGHT
DTSTART:20210328T030000
TZOFFSETFROM:+0100
TZOFFSETTO:+0200
TZNAME:CEST
END:DAYLIGHT
END:VTIMEZONE
END:VCALENDAR