BEGIN:VCALENDAR
VERSION:2.0
PRODID:-//wp-events-plugin.com//7.2.3.1//EN
TZID:Europe/Rome
X-WR-TIMEZONE:Europe/Rome
BEGIN:VEVENT
UID:28244@lazioeventi.com
DTSTART;TZID=Europe/Rome:20210530T100000
DTEND;TZID=Europe/Rome:20210530T120000
DTSTAMP:20210525T072136Z
URL:https://lazioeventi.com/eventi/a-spasso-con-gli-imperatori
SUMMARY:A spasso con gli Imperatori - Roma - 30 Maggio 21 10:00
DESCRIPTION:La nostra passeggiata archeologica inizierà nel cuore storico 
 della città di Roma. Visiteremo l’Anfiteatro Flavio e i luoghi del pote
 re dell’antica Roma: i Fori imperiali. Un’area archeologica estesa e s
 traordinaria che percorre centinaia di anni di storia. Scopriremo la magni
 ficenza dell'anfiteatro Flavio\, comunemente noto come Colosseo\, e la sua
  storia\, ammireremo il Foro di Cesare con il tempio di Venere Genitrice\,
  il Foro di Augusto con il tempio di Marte Ultore a ridosso della Suburra\
 , il Foro della Pace realizzato per volere di Vespasiano\, il Foro di Nerv
 a\, il più piccolo tra tutti e il Foro di Traiano con l’imponente colon
 na che descrive le vicende belliche dei trionfi di Traiano in Dacia. Finir
 emo la nostra passeggiata a ritroso nel tempo sulla più piccola collina d
 i Roma\, il Campidoglio\, al centro della quale svetta la colossale statua
  di Marc'Aurelio. Una piazza meravigliosa plasmata come un'opera d'arte da
 l divino Michelangelo.\n\nAPP.TO: Metro Colosseo linea B\n\nDurata visita 
 guidata: 2h\n\nCosto visita guidata: 8 euro adulti\, 5 euro ragazzi fino a
  18 anni\, gratis bambini fino a dieci anni. Eventuali auricolari: 2 euro 
 a persona.\n\nPer prenotazione chiama il numero 335.81.45.599 Nunzia o scr
 ivi alla mail: nunzarbol@gmail.com specificando nome\, numero persone e re
 capito telefonico.\n\n*La prenotazione è indispensabile per ricevere conf
 erma e per essere contattati in caso di variazioni. DISPOSIZIONI COVID: Pe
 r disposizioni in merito all’emergenza Covid\, il numero massimo di part
 ecipanti è pari a 15 unità. Ciascuno dovrà essere munito di mascherina 
 protettiva e dovrà essere rispettata la distanza minima di un metro tra i
  partecipanti.     \n\nDISPOSIZIONI COVID:\n       Per disposizio
 ni in merito all’emergenza Covid\, il numero massimo di partecipanti è 
 pari a 15 unità.\n       Ciascuno dovrà essere munito di mascherina 
 protettiva e dovrà essere rispettata la distanza minima di un metro tra i
  partecipanti.
ATTACH;FMTTYPE=image/jpeg:https://lazioeventi.com/wp-content/uploads/2021/
 05/300x250_romolo_20200228103727.png.jpg
CATEGORIES:Arte e Cultura nel Lazio
LOCATION:Roma\, Via Leopardi\, Roma\, Roma\, Lazio\, Italia
GEO:41.8942;12.5017
X-APPLE-STRUCTURED-LOCATION;VALUE=URI;X-ADDRESS=Via Leopardi\, Roma\, Roma\
 , Lazio\, Italia;X-APPLE-RADIUS=100;X-TITLE=Roma:geo:41.8942,12.5017
END:VEVENT
BEGIN:VTIMEZONE
TZID:Europe/Rome
X-LIC-LOCATION:Europe/Rome
BEGIN:DAYLIGHT
DTSTART:20210328T030000
TZOFFSETFROM:+0100
TZOFFSETTO:+0200
TZNAME:CEST
END:DAYLIGHT
END:VTIMEZONE
END:VCALENDAR