BEGIN:VCALENDAR
VERSION:2.0
PRODID:-//wp-events-plugin.com//7.2.3.1//EN
TZID:Europe/Rome
X-WR-TIMEZONE:Europe/Rome
BEGIN:VEVENT
UID:32991@lazioeventi.com
DTSTART;TZID=Europe/Rome;VALUE=DATE:20221119
DTEND;TZID=Europe/Rome;VALUE=DATE:20221121
DTSTAMP:20221110T083157Z
URL:https://lazioeventi.com/eventi/a-spasso-tra-le-meraviglie-dellottavo-2
 022-11-19
SUMMARY:A spasso tra le meraviglie dell'Ottavo - Roma - 19 Novembre 22 00:0
 0
DESCRIPTION:L’​Associazione Culturale di Promozione Sociale "Ars in Urb
 e" è lieta di presentarvi il progetto A spasso tra le Meraviglie dell'Ott
 avo\, risultato vincitore dell’Avviso Pubblico "COOLtura e sport: eserci
 zi per il mondo che verrà”\, area tematica 2: valorizzazione del patrim
 onio storico e artistico territoriale e del turismo dolce locale" del Muni
 cipio VIII di Roma Capitale\, che si svolgerà dal12 Novembre al18 Dicembr
 e 2022.\n\nLe diverse attività\, la cui durata varia dai 90 minuti a 5 or
 e circa\, si articolano in:\n\nA. VISITE E PASSEGGIATE GUIDATE STORICO - A
 RTISTICHE TEATRALIZZATE\nB. VISITE E PASSEGGIATE GUIDATE NEI QUARTIERI\nC.
  PASSEGGIATE GUIDATE CULTURALI GEOLOGICHE – NATURALISTICHE\nD. EVENTO NE
 L GIARDINO DI VIA CESAREA\n\nSono organizzate in collaborazione con le Ass
 ociazioni Culturali: Epica (VII Legio Gemina)\, Cvltvs Deorvm\, Agape San 
 Paolo e Walden.\n\nLe attività sono gratuite per i/le partecipanti.\nSaba
 to 19 Novembre dalle 15:00 alle 16:30: Il Tevere a San Paolo\nLa passeggia
 ta intende raccontare l'evoluzione del fiume Tevere durante i secoli\, con
  particolare attenzione per l'area di Ostiense-San Paolo. La visita inizie
 rà dalla Basilica di San Paolo e\, dopo un primo inquadramento storico\, 
 verrà analizzata l'area dal punto di vista geologico. Con l'aiuto di supp
 orti cartacei quali la carta geologica di Roma\, verranno illustrati i cam
 biamenti subiti dalla zona durante i secoli sottolineando l'influenza che 
 il fiume ha avuto in questi cambiamenti. La visita terminerà sul Ponte Ma
 rconi da dove sarà possibile osservare gli argini e l'ambiente fluviale. 
 La visita sarà tenuta da una guida turistica autorizzata affiancata da un
 a geologa che interverrà per spiegare l'evoluzione geologica dell'area.\n
 \nAppuntamento: via Ostiense\, all'altezza del bar vicino il campanile del
 la Basilica\n\nDurata: 90 minuti circa\n\nA cura della Dott.ssa M. Chiara 
 Caciolli e della Dott.ssa Serena Caciolli\nSabato 19 Novembre dalle 17:00 
 alle 19:00: Passeggiata nella città industriale: il Quartiere Ostiense\nL
 a passeggiata intende raccontare la storia di una porzione di città spess
 o trascurata\, che all'inizio del secolo scorso ha rappresentato la “mod
 ernità” diventando una delle prime zone industriali della capitale. In 
 particolare il percorso si concentrerà sulla via Ostiense e sulle fabbric
 he esistenti. Si inizia dalla Centrale Elettrica\, dedicata a Giovanni Mon
 temartini\, il primo impianto pubblico che permise di illuminare molte str
 ade del centro storico. Si prosegue lungo la via Ostiense per soffermarsi 
 sui Mercati Generali e sulla loro attuale riqualificazione\, in seguito si
  parlerà dell'area dei Gazometri e delle loro adiacenze percorrendo la vi
 a del Commercio\, puntellata da edifici quali la Dogana e gli ex Magazzini
  generali. La passeggiata prosege\, per concludersi\, in via del Porto Flu
 viale\, per analizzarne la sua originale funzione e l'attuale riqualificaz
 ione.\n\nAppuntamento: all’ingresso della Centrale Montemartini\, in via
  Ostiense n. 106\n\nDurata: 2 ore circa\n\nA cura della Dott.ssa Serena Ca
 ciolli\nDomenica 20 Novembre dalle 10:30 alle 18:00: Evento nel Giardino d
 i Via Cesarea\nL’iniziativa\, di carattere multidisciplinare\, ha lo sco
 po di trasformare il giardino di via Cesarea non solo in uno spazio di agg
 regazione ma anche in uno spazio di arricchimento delle conoscenze. L’ev
 ento in programma ha lo scopo di illustrare alcune tematiche inerenti l’
 antica Roma\, grazie la partecipazione e la collaborazione delle associazi
 oni culturali Epica e Cvltvs Deorvm\, e di valorizzare e incrementare l’
 arredo vegetale grazie all’associazione Agape-San Paolo.\n\nL’Ass. Cul
 t. Epica mostrerà ai partecipanti come nell’antica Roma veniva calcolat
 o il tempo\, illustrando ai partecipanti il funzionamento di una meridiana
  a terra. Successivamente si proseguirà con la centuriazione dello spazio
  del giardino\, grazie ad una groma e verrà spiegato come si porzionava i
 l territorio da insediare. L’Ass. Cult. Cvltvs Deorvm invece mostrerà u
 na centina ed i sistemi costruttivi grazie ai diorami. Inoltre\, curerà u
 na conferenza (che sarà visibile anche online) sulle erbe officinali\, me
 diche e la magia. L’Ass. Agape-San Paolo organizzerà un'attività adatt
 a ad adulti e bambini che li vedrà coinvolti nella cura attiva del giardi
 no per arrivare a realizzare una nuova aiuola\, favorendo cosi´ l'aggrega
 zione\, la condivisione di esperienze e conoscenze e l'attenzione per gli 
 spazi cittadini. Dopo aver pulito l'intera area con i volontari di Agape-S
 an Paolo\, verrà individuata una zona dove creare la nuova aiuola\, tenen
 do conto della migliore esposizione solare adatta alle piante che verranno
  posizionate. In base al periodo dell'anno in cui si svolgerà l'attività
 \, infatti\, verranno scelte piante adatte a valorizzarlo e ne verranno il
 lustrate le caratteristiche\, coinvolgendo poi i partecipanti nella cura d
 ell'aiuola creata.\n\nIn collaborazione con l’Associazione Culturale Epi
 ca (VII Legio Gemina)\, Agape-San Paolo\, CVLTVS DEORVM\n\nPROGRAMMA DELL
 ’INIZIATIVA:\n10:30 - 12:30: pulizia del giardino e sistemazione dell’
 aiuola in collaborazione con l’Associazione Agape-San Paolo\n15:00 - 18:
 00: evento di ricostruzione storica con esposizione dei banchetti didattic
 i in collaborazione con l’Associazione Culturale Epica (VII Legio Gemina
 ) e Associazione Culturale CVLTVS DEORVM\n16:00 - 18:00: conferenza legata
  alle erbe officinali\, mediche e alle credenze magiche. Verranno mostrate
  le essenze più usate nell’antica Roma\, dando la possibilità di odora
 rle e conoscerne approfonditamente gli usi più comuni. in collaborazione 
 con l’Associazione Culturale CVLTVS DEORVM
ATTACH;FMTTYPE=image/jpeg:https://lazioeventi.com/wp-content/uploads/2022/
 11/spasso-meraviglie-roma.jpg
CATEGORIES:Arte e Cultura nel Lazio
LOCATION:Roma\, Via Leopardi\, Roma\, Roma\, Lazio\, Italia
GEO:41.8942;12.5017
X-APPLE-STRUCTURED-LOCATION;VALUE=URI;X-ADDRESS=Via Leopardi\, Roma\, Roma\
 , Lazio\, Italia;X-APPLE-RADIUS=100;X-TITLE=Roma:geo:41.8942,12.5017
END:VEVENT
BEGIN:VTIMEZONE
TZID:Europe/Rome
X-LIC-LOCATION:Europe/Rome
BEGIN:STANDARD
DTSTART:20221030T020000
TZOFFSETFROM:+0200
TZOFFSETTO:+0100
TZNAME:CET
END:STANDARD
END:VTIMEZONE
END:VCALENDAR