BEGIN:VCALENDAR
VERSION:2.0
PRODID:-//wp-events-plugin.com//7.2.3.1//EN
TZID:Europe/Rome
X-WR-TIMEZONE:Europe/Rome
BEGIN:VEVENT
UID:30980@lazioeventi.com
DTSTART;TZID=Europe/Rome;VALUE=DATE:20220521
DTEND;TZID=Europe/Rome;VALUE=DATE:20220523
DTSTAMP:20220518T082810Z
URL:https://lazioeventi.com/eventi/a-zoomarine-inaugura-camelot
SUMMARY:A Zoomarine inaugura "Camelot" - Roma - 21 Maggio 22 00:00
DESCRIPTION:Duelli\, draghi volanti\, passaggi segreti. A Zoomarine inaugur
 a "Camelot"\, un mondo fantastico con giochi\, percorsi e lezioni per dive
 ntare un vero cavaliere.\n\nOspiti d'onore: cavalieri\, dame\, armigeri\, 
 sbandieratori de "la Giostra Cavalleresca di Sulmona"\n\nApertura 21 - 22 
 maggio Parco divertimenti Zoomarine\n\nAlla ricerca della leggendaria terr
 a di Camelot.  Duelli\, amori\, magia e il fascino senza tempo del mitico
  regno di Re Artù\, prendono vita nel parco divertimenti Zoomarine che il
  21 e 22 maggio inaugura la sua novità estiva “Camelot”\,  un piccol
 o mondo a misura di bambino dove la creatività prende il sopravvento. Col
 ori\, musiche a tema\, in un atmosfera degna delle avventure straordinarie
  e delle sfide epiche raccontate tra fantasia e storia. L’attrazione\, t
 ra antichi giochi medievali\, l’enorme castello con scivoli e passaggi s
 egreti\, i temibili draghi da ammirare in un percorso fantastico\, sarà a
 perta ufficialmente dall’eccezionale partecipazione di dame\, cavalieri\
 , armigeri\, sbandieratori e suonatori di tamburi e chiarine provenienti d
 a “La Giostra Cavalleresca di Sulmona”\, una delle rievocazioni storic
 he più antiche d’Italia che si svolge con un fitto calendario di appunt
 amenti nel bellissimo borgo d’Abruzzo. In versione rinnovata la Giostra 
 riprenderà quest’anno il cartellone di appuntamenti con la Cordesca\, l
 a gara per i bambini ( 4 e 5 giugno)\, una mostra d’arte pittorica e var
 i eventi culturali\, che accompagneranno cittadini e turisti fino alla gar
 a che si svolgerà il 30 e 31 luglio\, preceduta dal corteo in costume gui
 dato dalla Regina. A più di tre secoli di distanza  dalle ultime edizion
 i storicamente documentate questo importante evento sarà parzialmente ric
 ostruito al parco Zoomarine. Un lungo corteo con i sontuosi costumi dell
 ’epoca e un avvincente spettacolo con l’esibizione degli abili sbandie
 ratori\, pronti ad insegnare ai più audaci questa nobile arte della bandi
 era tra acrobazie e coreografie d’altri tempi.\n\nPreviste per i bambini
  lezioni gratuite per apprendere nozioni utili ed imparare a: \n\nsuonare
  i tamburi\, lanciare in aria bandiere\, duellare come un vero cavaliere.
   
ATTACH;FMTTYPE=image/jpeg:https://lazioeventi.com/wp-content/uploads/2022/
 05/0797.jpg
LOCATION:Roma\, Via Leopardi\, Roma\, Roma\, Lazio\, Italia
GEO:41.8942;12.5017
X-APPLE-STRUCTURED-LOCATION;VALUE=URI;X-ADDRESS=Via Leopardi\, Roma\, Roma\
 , Lazio\, Italia;X-APPLE-RADIUS=100;X-TITLE=Roma:geo:41.8942,12.5017
END:VEVENT
BEGIN:VTIMEZONE
TZID:Europe/Rome
X-LIC-LOCATION:Europe/Rome
BEGIN:DAYLIGHT
DTSTART:20220327T030000
TZOFFSETFROM:+0100
TZOFFSETTO:+0200
TZNAME:CEST
END:DAYLIGHT
END:VTIMEZONE
END:VCALENDAR