BEGIN:VCALENDAR
VERSION:2.0
PRODID:-//wp-events-plugin.com//7.2.3.1//EN
TZID:Europe/Rome
X-WR-TIMEZONE:Europe/Rome
BEGIN:VEVENT
UID:34127@lazioeventi.com
DTSTART;TZID=Europe/Rome:20230217T210000
DTEND;TZID=Europe/Rome:20230217T230000
DTSTAMP:20230216T095032Z
URL:https://lazioeventi.com/eventi/abbadream
SUMMARY:ABBAdream - Viterbo - 17 Febbraio 23 21:00
DESCRIPTION:Nell’ambito della rassegna Viterbo tribute sound festival\, o
 rganizzata da Ar spettacoli e Teatro San Leonardo\, Rockopera ha il piacer
 e di presentare\, per la prima volta a Viterbo alle ore 21 di venerdì 17 
 febbraio\, lo show ABBAdream\, un doveroso omaggio alla band le cui canzon
 i sono ormai considerate un vero e proprio ‘cult’\, anche grazie al mu
 sical teatrale “Mamma mia!”\, stabilmente in scena a Londra dal 1999\,
  e al film con Meryl Streep e Pierce Brosnan. Gli ABBA sono stati il grupp
 o musicale pop svedese di maggior successo. Si stima che abbiano venduto o
 ltre 375 milioni di dischi in tutto il mondo\, diventando così uno dei gr
 uppi più popolari nella storia della musica leggera. \n\nIl gruppo si cos
 tituì intorno al 1970. Quattro anni dopo erano già all’apice della car
 riera musicale\, dopo aver vinto l’edizione 1974 dell’Eurovision Song 
 Contest con “Waterloo”. Il gruppo si sciolse nel 1982. Da allora si so
 no susseguiti vari rumors circa una possibile reunion. \n\nNel 2020 gli AB
 BA stupiscono tutti annunciando un nuovo disco e un concerto “virtuale
 ”. ABBAdream è uno show “non virtuale” tra i più acclamati in Euro
 pa e un’occasione per riascoltare gli intramontabili successi della band
  svedese e qualche nuova proposta estratta proprio dall’album uscito nel
  2021. Dal 2010 lo spettacolo è stato rappresentato con successo in molti
 ssimi teatri italiani. Un lungo tour ha raggiunto Svizzera\, Lussemburgo\,
  Belgio\, Romania\, Russia\, Slovenia\, Spagna e Germania consacrando lo s
 how come uno dei più quotati a livello internazionale. Lo spettacolo ripr
 opone lo stile inconfondibile degli abiti\, le coreografie e i brani che h
 anno consacrato il gruppo nell’Olimpo della disco music: canzoni eseguit
 e interamente dal vivo\, costumi e luci che ricreano le indimenticabili at
 mosfere degli anni ‘70. “Mamma mia!”\, “Dancing Queen”\, “Wate
 rloo”. Difficile riuscire a rimanere immobili durante lo show: preparate
 vi a scatenarvi.\n\nABBAdream\nSusanna Pellegrini (Suzanne Lothar – voce
 )\nCecilia Pascale (Blondy Cecil – voce)\nAntonio Gori (Goram Grundig 
 – chitarra)\nSimone Giusti (Zimeon Oktogon – tastiere)\nAlessandro Not
 toli (Alexander Basiktningman – basso)\nMarco Campagna (Mark Trumma – 
 batteria)\n\nPer ulteriori informazioni:\ntelefono 393.9041725 – 392.301
 8173\nPrevendita online: circuito ticketitalia.com\nPrevendite a Viterbo: 
 Teatro San Leonardo (Via Cavour 9\, a Viterbo. Tel. 392.3018173) - Undergr
 ound (Via della Palazzina 1\, a Viterbo. Tel. 0761342987).
ATTACH;FMTTYPE=image/jpeg:https://lazioeventi.com/wp-content/uploads/2023/
 02/abbadream.jpg
CATEGORIES:Musica, Spettacoli e Danza nel Lazio
LOCATION:Viterbo\, Comune\, Viterbo\, Viterbo\, Lazio\, Italia
GEO:42.417;12.1051
X-APPLE-STRUCTURED-LOCATION;VALUE=URI;X-ADDRESS=Comune\, Viterbo\, Viterbo\
 , Lazio\, Italia;X-APPLE-RADIUS=100;X-TITLE=Viterbo:geo:42.417,12.1051
END:VEVENT
BEGIN:VTIMEZONE
TZID:Europe/Rome
X-LIC-LOCATION:Europe/Rome
BEGIN:STANDARD
DTSTART:20221030T020000
TZOFFSETFROM:+0200
TZOFFSETTO:+0100
TZNAME:CET
END:STANDARD
END:VTIMEZONE
END:VCALENDAR