BEGIN:VCALENDAR
VERSION:2.0
PRODID:-//wp-events-plugin.com//7.2.3.1//EN
TZID:Europe/Rome
X-WR-TIMEZONE:Europe/Rome
BEGIN:VEVENT
UID:38222@lazioeventi.com
DTSTART;TZID=Europe/Rome:20240108T210000
DTEND;TZID=Europe/Rome:20240108T223000
DTSTAMP:20240104T121907Z
URL:https://lazioeventi.com/eventi/abracadown-il-primo-musical-magico-in-f
 avore-dellinclusione
SUMMARY:AbracaDown\, il primo musical magico in favore dell'inclusione - Ro
 ma - 8 Gennaio 24 21:00
DESCRIPTION:Una vittoria meritata per il cast di AbracaDown\, il musical ma
 gico che ha dimostrato quanto sia possibile portare avanti il messaggio de
 ll'inclusione  con il sorriso contagioso dei protagonisti che tornano al 
 Teatro Olimpico l'8 gennaio 2024 alle ore 21.00\, dopo il grande successo 
 riscosso qualche mese fa al Teatro Brancaccio e numerosi altri appuntament
 i che li hanno visti coinvolti. Tutti uguali\, nessuno escluso.\n\nCon que
 sto spirito i 34 ragazzi con Sindrome di Down si preparano a salire sul pa
 lco per dare vita al progetto AbracaDown\, che nasce dall'idea di Francesc
 o Leardini\, Presidente del Club Magico Fernando Riccardi di Roma\, manage
 r ventennale nel mondo dello show business\, insieme a Danilo Melandri e G
 iancarlo Giambarresi della Aipd Roma Onlus. Un sogno che si realizza grazi
 e alla determinazione e all'amore di tanti cuori speciali. Le scenografie 
 dello show\, per esempio\, sono state realizzate da un ragazzo affetto da 
 sordità\, Federico Rossini\, che utilizza il lavoro svolto per la sua tes
 i di laurea.\n\nLa sindrome di Down è una delle più note condizioni  ge
 netiche caratterizzata dalla presenza di un cromosoma in più nelle cellul
 e e coloro che ne sono affetti hanno da sempre affrontato\, e continuano a
 d affrontare\, ogni giorno episodi di discriminazione e esclusione subendo
  ingiustizie sistematiche in tutti gli ambiti della vita\, dalla scuola al
  lavoro. La mission di questo spettacolo è proprio quella di contrastare 
 ed abbattere i pregiudizi fornendo ai protagonisti la possibilità di emer
 gere\, fare squadra\, mostrare alla platea tutto il loro valore in una mis
 cela esplosiva tra danza\, canto\, recitazione\, arti magiche.\n\nSul palc
 o 10 ballerini\, 10 cantanti\, 14 attori/maghi creano uno spazio scenico d
 ove ognuno si sente parte integrante di un puzzle che compone l’immagine
  di una società ideale\, dove ognuno fa ciò che lo fa stare bene senza l
 a paura di essere giudicati e discriminati a causa di una diversità innat
 a.\n\nOgnuno crea il proprio innesto in una catena di montaggio che ha l
 ’unico obiettivo di smuovere le coscienze e partorire conoscenze in chi 
 ignora ciò che non conosce e lo giudica\, ed esclude\, a priori\, senza s
 apere\, solo per paura di non saper fare altrimenti. Fino conduttore: la m
 agia\, perché questa antica disciplina è l’unica in grado di creare un
  mondo parallelo\, generando emozioni tali da illudere lo spettatore che l
 ’impossibile è possibile.\n\nNel futuro il progetto prevede l'apertura 
 di una Accademia dello spettacolo per ragazzi Down.\n\nInfo e prenotazioni
  www.abracadown.it
ATTACH;FMTTYPE=image/jpeg:https://lazioeventi.com/wp-content/uploads/2024/
 01/IMG-20230927-WA0060.jpg
CATEGORIES:Musica, Spettacoli e Danza nel Lazio,Varie
LOCATION:Roma\, Via Leopardi\, Roma\, Roma\, Lazio\, Italia
GEO:41.8942;12.5017
X-APPLE-STRUCTURED-LOCATION;VALUE=URI;X-ADDRESS=Via Leopardi\, Roma\, Roma\
 , Lazio\, Italia;X-APPLE-RADIUS=100;X-TITLE=Roma:geo:41.8942,12.5017
END:VEVENT
BEGIN:VTIMEZONE
TZID:Europe/Rome
X-LIC-LOCATION:Europe/Rome
BEGIN:STANDARD
DTSTART:20231029T020000
TZOFFSETFROM:+0200
TZOFFSETTO:+0100
TZNAME:CET
END:STANDARD
END:VTIMEZONE
END:VCALENDAR