BEGIN:VCALENDAR
VERSION:2.0
PRODID:-//wp-events-plugin.com//7.2.3.1//EN
TZID:Europe/Rome
X-WR-TIMEZONE:Europe/Rome
BEGIN:VEVENT
UID:43192@lazioeventi.com
DTSTART;TZID=Europe/Rome:20251208T180000
DTEND;TZID=Europe/Rome:20251208T180000
DTSTAMP:20251124T121427Z
URL:https://lazioeventi.com/eventi/accensione-dellalbero-grande-a-veroli
SUMMARY:Accensione dell'Albero Grande a Veroli - Veroli - 8 Dicembre 25 18:
 00
DESCRIPTION:Veroli\, l'accensione dell'Albero Grande è il simbolo dell'uni
 one: 8.000 luci per sostenere il sogno di “Capitale della Cultura 2028
 ”\nL'8 dicembre in Piazza Santa Maria Salome\, la tradizione si fa ponte
 : un gesto luminoso per legare Veroli\, Alatri\, Anagni e Ferentino sotto 
 il progetto "Hernica Saxa".\nIl Natale a Veroli si accende l'8 dicembre e 
 quest'anno la sua luce porterà con sé un messaggio di profonda unità e 
 ambizione culturale. Alle ore 18:00\, nella cornice di Piazza Santa Maria 
 Salome\, si terrà la solenne cerimonia di accensione dell'Albero Grande\,
  il maestoso abete di venti metri illuminato da oltre ottomila luci e coro
 nato da una grande stella.\nDa nove anni\, questa tradizione è curata con
  dedizione dall'associazione Gli Amici dell'Albero Grande\, ma l'edizione 
 2025 assume un significato inedito e strategico. L'illuminazione\, che avv
 errà in contemporanea con le luminarie del centro storico\, sarà infatti
  arricchita da una sorpresa speciale volta a celebrare il legame tra Verol
 i e le altre tre città erniche – Alatri\, Anagni e Ferentino – unite 
 nel percorso verso la candidatura a Capitale Italiana della Cultura 2028 c
 on il progetto congiunto “Hernica Saxa – Dove la storia lega\, la cult
 ura unisce”.\nLe indiscrezioni parlano di un elemento luminoso simbolico
 \, ideato per congiungere idealmente le quattro storiche città fortificat
 e della Ciociaria\, trasformando l'Albero Grande non solo in uno spettacol
 o visivo\, ma in un vero e proprio faro di coesione territoriale.\nQuesto 
 gesto sottolinea l'impegno civico e la solidarietà promossi dagli Amici d
 ell'Albero Grande\, che ogni anno lavorano fianco a fianco con la comunit
 à e i volontari\, come i ragazzi del Nuovo Presepe Artistico Verolano\, p
 er fare di questa celebrazione un’occasione di riflessione e supporto al
 le cause solidali.\nL'accensione dell'Albero Grande di Veroli si conferma 
 così un appuntamento imperdibile per la comunità e per tutti coloro che 
 credono nel futuro del territorio\, dimostrando che l'unione e la cultura 
 sono le luci più potenti per illuminare la strada verso il 2028.\nAppunta
 mento: Lunedì 8 dicembre\, ore 18:00\, Piazza Santa Maria Salome – Vero
 li (FR).
ATTACH;FMTTYPE=image/jpeg:https://lazioeventi.com/wp-content/uploads/2025/
 11/albero-veroli.jpg
LOCATION:Veroli\, Comune di Veroli\, Veroli\, Frosinone\, Lazio\, Italia
GEO:41.6911;13.4178
X-APPLE-STRUCTURED-LOCATION;VALUE=URI;X-ADDRESS=Comune di Veroli\, Veroli\,
  Frosinone\, Lazio\, Italia;X-APPLE-RADIUS=100;X-TITLE=Veroli:geo:41.6911,
 13.4178
END:VEVENT
BEGIN:VTIMEZONE
TZID:Europe/Rome
X-LIC-LOCATION:Europe/Rome
BEGIN:STANDARD
DTSTART:20251026T020000
TZOFFSETFROM:+0200
TZOFFSETTO:+0100
TZNAME:CET
END:STANDARD
END:VTIMEZONE
END:VCALENDAR