BEGIN:VCALENDAR
VERSION:2.0
PRODID:-//wp-events-plugin.com//7.2.3.1//EN
TZID:Europe/Rome
X-WR-TIMEZONE:Europe/Rome
BEGIN:VEVENT
UID:31575@lazioeventi.com
DTSTART;TZID=Europe/Rome:20220715T193000
DTEND;TZID=Europe/Rome:20220715T204500
DTSTAMP:20220706T200559Z
URL:https://lazioeventi.com/eventi/achab-incontra-pasolini
SUMMARY:Achab incontra Pasolini - Roma - 15 Luglio 22 19:30
DESCRIPTION:ACHAB (ad est dell'Equatore edizioni) Rivista letteraria illust
 rata fondata e diretta da Nando Vitali.\n\nPresenta: PASOLINI Venerdì 15 
 luglio 2022 ore 19.30 Palazzo del Freddo (Gelateria letteraria Fassi)\, Vi
 a Principe  Eugenio n°65 La Gelateria letteraria "Fassi" del Palazzo del
  Freddo a Roma ospiterà l'evento di presentazione del XII volume della ri
 vista letteraria Achab dal titolo: "Pasolini" (incontro in collaborazione 
 con  la scuola di scrittura Genius).\n\nInterverranno: Andrea Carraro\, N
 icola Fano\, Lucia Pappalardo e Paolo Restuccia. Un'originale performance 
 teatrale sarà a cura della Compagnia" Blue in the Face" con la  regia di
  Enrico Maria Falconi.\n\nVerrà inoltre proiettato il breve docufilm "La 
 sequenza del fiore di carta" di Pier Paolo Pasolini. Alla console Luigi An
 nibaldi.\n\nInfine Andrea Fassi preparerà un gusto di gelato per l'occasi
 one.
ATTACH;FMTTYPE=image/jpeg:https://lazioeventi.com/wp-content/uploads/2022/
 07/LOCANDINA-GENIUS-definitiva.jpg
CATEGORIES:Arte e Cultura nel Lazio
LOCATION:Roma\, Via Leopardi\, Roma\, Roma\, Lazio\, Italia
GEO:41.8942;12.5017
X-APPLE-STRUCTURED-LOCATION;VALUE=URI;X-ADDRESS=Via Leopardi\, Roma\, Roma\
 , Lazio\, Italia;X-APPLE-RADIUS=100;X-TITLE=Roma:geo:41.8942,12.5017
END:VEVENT
BEGIN:VTIMEZONE
TZID:Europe/Rome
X-LIC-LOCATION:Europe/Rome
BEGIN:DAYLIGHT
DTSTART:20220327T030000
TZOFFSETFROM:+0100
TZOFFSETTO:+0200
TZNAME:CEST
END:DAYLIGHT
END:VTIMEZONE
END:VCALENDAR