BEGIN:VCALENDAR
VERSION:2.0
PRODID:-//wp-events-plugin.com//7.2.3.1//EN
TZID:Europe/Rome
X-WR-TIMEZONE:Europe/Rome
BEGIN:VEVENT
UID:31282@lazioeventi.com
DTSTART;TZID=Europe/Rome:20220618T170000
DTEND;TZID=Europe/Rome:20220618T190000
DTSTAMP:20220613T130239Z
URL:https://lazioeventi.com/eventi/acqua-farina-e-fuoco
SUMMARY:Acqua\, Farina e Fuoco - Roma - 18 Giugno 22 17:00
DESCRIPTION:In occasione delle Giornate Europee dell'Archeologia\, l’Isti
 tuto Centrale per l’Archeologia\, propone un ricco calendario di eventi 
 dedicati al tema “ Acqua\, fuoco e farina”\, in collaborazione con la 
 Soprintendenza Speciale di Roma\, il Parco archeologico di Ostia antica e 
 la Direzione Generale per la Diplomazia Pubblica Culturale del Ministero d
 egli Affari Esteri e della Cooperazione Internazionale.\n\nWorkshop Acqua\
 , fuoco e farina. Processi di panificazione tra etnoantropologia e cultura
  materiale.\n\nIl Workshop si terrà presso il Museo Ninfeo di Roma e in d
 iretta streaming sulla pagina Facebook dell’Istituto Centrale dell’Arc
 heologia.\n\nLaboratorio didattico\n\nLaboratorio didattico "Dal grano... 
 pane"\, organizzato dai Servizi Educativi del Parco archeologico (Responsa
 bile Dott. Dario Daffara\, Funzionario Archeologo del Parco)\, in collabor
 azione con Claudia Parente dell'Associazione Darwin.\nIl laboratorio\, des
 tinato ai bambini dai 6 anni in su e alle loro famiglie\, si svolgerà all
 'aperto presso il Piazzale delle Corporazioni: i piccoli visitatori impare
 ranno a preparare il pane come gli antichi abitanti ostiensi e a seguire s
 i svolgerà una breve visita guidata al vicino Molino del Silvano.\nDurata
  complessiva prevista circa 2 ore\, numero partecipanti max 20 bambini (ol
 tre eventuali accompagnatori)\, su prenotazione.\n \nVisita guidata temati
 ca\n\nVisita guidata tematica agli scavi di Ostia antica dedicata a "I luo
 ghi del grano e del pane"\, condotta da Claudia Tempesta (Funzionario Arch
 eologo del Parco).\nItinerario: Mosaico delle Province\, Piazzale delle Co
 rporazioni\, Grandi Horrea\, Molino del Silvano\, marmi e doli del piazzal
 e antistante all'Antiquarium\, Piccolo Mercato e Caseggiato dei Misuratori
  di Grano\, Aula dei Mensores\, Caseggiato dei Doli.\nDurata complessiva p
 revista circa 2 ore\, numero partecipanti max 30\, su prenotazione.\n \nMo
 dalità di prenotazione e di ingresso\n\nLa partecipazione al laboratorio 
 e alla visita guidata\, a titolo completamente gratuito\, è subordinata a
 lla prenotazione all'indirizzo pa-oant.laboratorididattici@beniculturali.i
 t entro giovedì 16 giugno\, fino al raggiungimento dei posti disponibili.
  Nella mail di prenotazione dovranno essere indicati il numero e i nominat
 ivi di tutti i partecipanti (compresi eventuali accompagnatori)\, che potr
 anno usufruire dell'ingresso gratuito\, previo ritiro di ticket (gratuito)
  in biglietteria.\n\nScoprite nel programma completo tutti i dettagli e le
  modalità di partecipazione\, vi aspettiamo numerosi!
ATTACH;FMTTYPE=image/jpeg:https://lazioeventi.com/wp-content/uploads/2022/
 06/Programma-ICA-GEA-2022-per-sito-DEF.jpg
CATEGORIES:Arte e Cultura nel Lazio
LOCATION:Roma\, Via Leopardi\, Roma\, Roma\, Lazio\, Italia
GEO:41.8942;12.5017
X-APPLE-STRUCTURED-LOCATION;VALUE=URI;X-ADDRESS=Via Leopardi\, Roma\, Roma\
 , Lazio\, Italia;X-APPLE-RADIUS=100;X-TITLE=Roma:geo:41.8942,12.5017
END:VEVENT
BEGIN:VTIMEZONE
TZID:Europe/Rome
X-LIC-LOCATION:Europe/Rome
BEGIN:DAYLIGHT
DTSTART:20220327T030000
TZOFFSETFROM:+0100
TZOFFSETTO:+0200
TZNAME:CEST
END:DAYLIGHT
END:VTIMEZONE
END:VCALENDAR