BEGIN:VCALENDAR
VERSION:2.0
PRODID:-//wp-events-plugin.com//7.2.3.1//EN
TZID:Europe/Rome
X-WR-TIMEZONE:Europe/Rome
BEGIN:VEVENT
UID:29531@lazioeventi.com
DTSTART;TZID=Europe/Rome:20220106T150000
DTEND;TZID=Europe/Rome:20220106T210000
DTSTAMP:20211213T120638Z
URL:https://lazioeventi.com/eventi/adeste-fideles-turricis-2
SUMMARY:Adeste Fideles Turricis - Torrice - 6 Gennaio 22 15:00
DESCRIPTION:Torna l’ormai consueto appuntamento con “Adeste Fideles Tur
 ricis”\, la manifestazione ideata\, progettata e realizzata dall’Assoc
 iazione “I Viandanti”.\n\nQuest’anno sarà un presepe ricco di novi
 tà\, frutto di mesi di lavoro e dell’impegno di tante persone. Molti s
 aranno i figuranti\, oltre 250 le persone in costume\, saranno richiamati 
 alla memoria i vecchi mestieri e le tradizioni del passato\, sarà possib
 ile visitare il frantoio\, la casa ebraica\, la domus romana\, il tempio\,
  fino ad arrivare alla mangiatoia.\n\nSaranno rievocate inoltre delle vere
  e proprie scene di vita quotidiana\, i figuranti si cimenteranno nell’
 interpretazione di episodi che rispecchino il più fedelmente possibile la
  vita e l’atmosfera di Betlemme nella quale Maria diede alla vita Gesù.
 \n\nIl percorso inizierà da piazza Santa Lucia e si snoderà lungo il ce
 ntro storico del paese. Come di consueto sarà possibile degustare piatti 
 tipici della tradizione culinaria\, sarà istituito un servizio navetta g
 ratuito ed un’area parcheggio camper.\n\nNella data del 6 gennaio\, alle
  ore 18:30\, all’interno della bellissima chiesa di San Pietro Apostolo
 \, avrà luogo anche il “Concerto di Adeste Fideles Turricis” durante
  il quale il maestro Davide Palani delizierà il pubblico con la sua voc
 e\, accompagnato al pianoforte dal maestro Luigi Mastracci.\n\nIl cammino
  dei Viandanti verso il Natale è quindi iniziato con l’intento di por
 tare amore e gioia nei cuori di tutti coloro che vorranno partecipare a q
 uesto emozionante cammino verso la nascita di Gesù\, non ci resta che inv
 itare tutti a prenderne parte.
ATTACH;FMTTYPE=image/jpeg:https://lazioeventi.com/wp-content/uploads/2021/
 12/presepe-torrice.jpeg
CATEGORIES:Sagre, Gastronomia e Tradizioni nel Lazio
LOCATION:Torrice\, Comune di Torrice\, Torrice\, Frosinone\, Lazio\, Italia
GEO:41.6297;13.3982
X-APPLE-STRUCTURED-LOCATION;VALUE=URI;X-ADDRESS=Comune di Torrice\, Torrice
 \, Frosinone\, Lazio\, Italia;X-APPLE-RADIUS=100;X-TITLE=Torrice:geo:41.62
 97,13.3982
END:VEVENT
BEGIN:VTIMEZONE
TZID:Europe/Rome
X-LIC-LOCATION:Europe/Rome
BEGIN:STANDARD
DTSTART:20211031T020000
TZOFFSETFROM:+0200
TZOFFSETTO:+0100
TZNAME:CET
END:STANDARD
END:VTIMEZONE
END:VCALENDAR