BEGIN:VCALENDAR
VERSION:2.0
PRODID:-//wp-events-plugin.com//7.2.3.1//EN
TZID:Europe/Rome
X-WR-TIMEZONE:Europe/Rome
BEGIN:VEVENT
UID:25828@lazioeventi.com
DTSTART;VALUE=DATE:20211105
DTEND;VALUE=DATE:20211213
DTSTAMP:20211027T091420Z
URL:https://lazioeventi.com/eventi/ai-confini-dellarte-2
SUMMARY:Ai confini dell'Arte - Roma - 5 Novembre 21 00:00
DESCRIPTION:performance - street photography - musica - fumetti - video EVE
 NTI ARTISTICI 13\, 14\, 15 dicembre 2019 SE C’È UN DATO UNIFICANTE NELL
 A MULTIFORMITÀ DELLE CULTURE CONTEMPORANEE È PROPRIO QUELLO DELLO SCONFI
 NAMENTO AI CONFINI DELL’ARTE è ideato 
ATTACH;FMTTYPE=image/jpeg:https://lazioeventi.com/wp-content/uploads/2019/
 12/news.jpg
CATEGORIES:Arte e Cultura nel Lazio,Varie
LOCATION:Roma\, Via Leopardi\, Roma\, Roma\, Lazio\, Italia
GEO:41.8942;12.5017
X-APPLE-STRUCTURED-LOCATION;VALUE=URI;X-ADDRESS=Via Leopardi\, Roma\, Roma\
 , Lazio\, Italia;X-APPLE-RADIUS=100;X-TITLE=Roma:geo:41.8942,12.5017
END:VEVENT
END:VCALENDAR