BEGIN:VCALENDAR
VERSION:2.0
PRODID:-//wp-events-plugin.com//7.2.3.1//EN
TZID:Europe/Rome
X-WR-TIMEZONE:Europe/Rome
BEGIN:VEVENT
UID:38891@lazioeventi.com
DTSTART;TZID=Europe/Rome:20240406T210000
DTEND;TZID=Europe/Rome:20240406T223000
DTSTAMP:20240405T070640Z
URL:https://lazioeventi.com/eventi/alatri-in-musica
SUMMARY:Alatri in musica - Alatri - 6 Aprile 24 21:00
DESCRIPTION:Dal 3 al 14 aprile 2024\, ad Alatri in vista dei Festeggiamenti
  di San Sisto\, vi aspettano tre fantastici appuntamenti in piazza. Serate
  all’insegna della musica\, della danza e del divertimento\n \nPROGRAMMA
 :\nMercoledì 3 Aprile 202\nDEMO MORSELLI E MARCELLO CIRILLO\n\nSabato 6 A
 prile 2024\nONDASUPERNOVA\n \nDomenica 14 Aprile 2024\nPALASPORT – OFFIC
 IAL TRIBUTE BAND POOH
ATTACH;FMTTYPE=image/jpeg:https://lazioeventi.com/wp-content/uploads/2024/
 04/Locandina-Ondasupernova-6-aprile.jpeg
CATEGORIES:Musica, Spettacoli e Danza nel Lazio
LOCATION:Alatri\, Comune\, Alatri\, Frosinone\, Lazio\, Italia
GEO:41.7265;13.3421
X-APPLE-STRUCTURED-LOCATION;VALUE=URI;X-ADDRESS=Comune\, Alatri\, Frosinone
 \, Lazio\, Italia;X-APPLE-RADIUS=100;X-TITLE=Alatri:geo:41.7265,13.3421
END:VEVENT
BEGIN:VTIMEZONE
TZID:Europe/Rome
X-LIC-LOCATION:Europe/Rome
BEGIN:DAYLIGHT
DTSTART:20240331T030000
TZOFFSETFROM:+0100
TZOFFSETTO:+0200
TZNAME:CEST
END:DAYLIGHT
END:VTIMEZONE
END:VCALENDAR