BEGIN:VCALENDAR
VERSION:2.0
PRODID:-//wp-events-plugin.com//7.2.3.1//EN
TZID:Europe/Rome
X-WR-TIMEZONE:Europe/Rome
BEGIN:VEVENT
UID:35595@lazioeventi.com
DTSTART;TZID=Europe/Rome:20230527T183000
DTEND;TZID=Europe/Rome:20230527T213000
DTSTAMP:20230524T113517Z
URL:https://lazioeventi.com/eventi/albania-casa-mia-di-aleksandros-memetaj
SUMMARY:Albania Casa Mia di Aleksandros Memetaj - Canino - 27 Maggio 23 18:
 30
DESCRIPTION:Sabato 27 maggio alle ore 18:30 al Parco dell'Arancera di Canin
 o\, EXTRA Teatro Festival\, organizzato da Anonima Teatri con il contribut
 o della Regione Lazio e del Comune di Canino\, presenta un pomeriggio di t
 eatro e musica accompagnato da un aperitivo a cura del Bar Autolavaggio Mu
 stang Garage.\n\nIn programma lo spettacolo Albania Casa Mia di e con Alek
 sandros Memetaj\, regia Giampiero Rappa\, monologo autobiografico diverten
 te e commovente da 8 anni programmato in tutta Italia e all’estero\, vin
 citore Premio Museo Cervi – Teatro per la Memoria 2016 e Premio Avanguar
 die 20 30 [Bologna]. 1991\, Albania. il regime comunista che per quasi ci
 nquant'anni aveva limitato la libertà dei cittadini è ormai collassato.
  Il presidente Ramiz Alia concede il diritto di viaggiare fuori dallo sta
 to\, riaprendo i confini e aprendo all’economia libera. Migliaia di per
 sone cercano di scappare con navi\, pescherecci e gommoni diretti verso l'
 Italia. Tra questi c'è Alexander Toto\, che giunge a Brindisi con un bimb
 o di 6 mesi. Albania casa mia è la storia di un figlio che crescerà lon
 tano dalla sua terra natia\, in Veneto\, luogo che non gli darà mai un pi
 eno senso di appartenenza. È la storia di un padre\, dei sacrifici fatti\
 , dei pericoli corsi per evitare di crescere suo figlio nella miseria di u
 no Stato che non esiste più. È la storia del suo grande amore nei confro
 nti della propria terra\, di grande patriottismo\, di elevazione di alcuni
  valori che in Italia non esistono più. Quando il popolo piange sangue e 
 si ribella allo Stato\, per un gioco controverso dell’animo umano il cuo
 re\, pur bagnato di veleno\, conserva gli odori\, le immagini e i dolci ri
 cordi di una nazione unica\, con una storia sofferta e passionale. I desti
 ni di Aleksandros Memetaj e Alexander Toto apparentemente lontani si incro
 ciano più volte nella storia fino a creare un’unica corda\, un unico pe
 nsiero. Finché l’uno diventerà il figlio e l’altro il padre.\n\nA se
 guire\, alle ore 19:30\, il concerto di Bartowski\, di e con Marco Memetaj
 \, Stefano Maniero e Andrea Mattuzzi. Eclettico e giovane trio veneto indi
 e-pop che porta le sonorità del blues\, del rock e del new soul in una pe
 rformance musicale con voce\, batteria\, chitarra elettrica e basso. Tra i
  pezzi presentati live\, i primi singoli recentemente usciti nel 2022/2023
 .\n\nIl progetto è organizzato da Anonima Teatri con la direzione artis
 tica di Aleksandros Memetaj e Yoris Petrillo sostenuto dalla Regione 
 Lazio e dal Comune di Canino ed in collaborazione con la Direzione Reg
 ionale Musei del Lazio e Twain Centro Produzione Danza. \n\n\n5€ SPETT
 ACOLO + APERITIVO A CURA DI BAR AUTOLAVAGGIO MUSTANG GARAGE\n\nINFO E PREN
 OTAZIONI:\n(+39) 380 146 2962 \nScrivere su WhatsApp o chiamare dalle 18 a
 lle 20. Se non ricevete risposta sarete ricontattati al più presto.\ninfo
 @anonimateatri.com\nanonimateatri.com
ATTACH;FMTTYPE=image/jpeg:https://lazioeventi.com/wp-content/uploads/2023/
 05/Locandina-27-maggio-EXTRA-Teatro-Festival.jpg
CATEGORIES:Musica, Spettacoli e Danza nel Lazio
LOCATION:Canino\, Comune di Canino\, Canino\, Viterbo\, Lazio\, Italia
GEO:42.4639;11.7489
X-APPLE-STRUCTURED-LOCATION;VALUE=URI;X-ADDRESS=Comune di Canino\, Canino\,
  Viterbo\, Lazio\, Italia;X-APPLE-RADIUS=100;X-TITLE=Canino:geo:42.4639,11
 .7489
END:VEVENT
BEGIN:VTIMEZONE
TZID:Europe/Rome
X-LIC-LOCATION:Europe/Rome
BEGIN:DAYLIGHT
DTSTART:20230326T030000
TZOFFSETFROM:+0100
TZOFFSETTO:+0200
TZNAME:CEST
END:DAYLIGHT
END:VTIMEZONE
END:VCALENDAR