BEGIN:VCALENDAR
VERSION:2.0
PRODID:-//wp-events-plugin.com//7.2.3.1//EN
TZID:Europe/Rome
X-WR-TIMEZONE:Europe/Rome
BEGIN:VEVENT
UID:37911@lazioeventi.com
DTSTART;TZID=Europe/Rome:20231124T210000
DTEND;TZID=Europe/Rome:20231124T211500
DTSTAMP:20231123T120420Z
URL:https://lazioeventi.com/eventi/albania-casa-mia
SUMMARY:Albania Casa Mia - Viterbo - 24 Novembre 23 21:00
DESCRIPTION:Monologo pluripremiato di e con Aleksandros Memetaj che inaugur
 a la stagione teatrale 2023-24 Oltreconfine. \n\n1991\, Albania. il regime
  comunista che per quasi cinquant'anni aveva limitato la libertà dei citt
 adini è ormai collassato. Il presidente Ramiz Alia concede il diritto di 
 viaggiare aprendo i confini. Migliaia di persone cercano di scappare con n
 avi\, pescherecci e gommoni diretti verso l'Italia. Tra questi c'è Alexan
 der Toto\, che giunge a Brindisi con un bimbo di 6 mesi. Albania casa mia 
 è la storia di un figlio che crescerà lontano dalla sua terra natia\; qu
 ella di un padre\, dei sacrifici fatti e dei pericoli corsi per evitare di
  crescere suo figlio nella miseria di uno Stato che non esiste più\; e qu
 ella del suo grande amore nei confronti della propria terra. Quando il pop
 olo piange sangue e si ribella allo Stato\, per un gioco controverso dell
 ’animo umano il cuore\, pur bagnato di veleno\, conserva gli odori\, le 
 immagini e i dolci ricordi di una nazione unica\, con una storia sofferta 
 e passionale. \nI destini di Aleksandros Memetaj e Alexander Toto apparent
 emente lontani si incrociano più volte nella storia fino a creare un’un
 ica corda\, un unico pensiero. Finché l’uno diventerà il figlio e l’
 altro il padre.\n\ndi e con Aleksandros Memetaj\nregia Giampiero Rappa\nas
 sistente alla regia Alberto Basaluzzo\nproduzione Anonima Teatri / Twain C
 entro Produzione Danza\nVincitore Premio Museo Cervi – Teatro per la Mem
 oria 2016\nVincitore Premio Avanguardie 20 30 [Bologna]\ndurata 60' 
ATTACH;FMTTYPE=image/jpeg:https://lazioeventi.com/wp-content/uploads/2023/
 11/24-nov-albania-casa-mia-teatro-san-leonardo.jpg
CATEGORIES:Musica, Spettacoli e Danza nel Lazio
LOCATION:Viterbo\, Comune\, Viterbo\, Viterbo\, Lazio\, Italia
GEO:42.417;12.1051
X-APPLE-STRUCTURED-LOCATION;VALUE=URI;X-ADDRESS=Comune\, Viterbo\, Viterbo\
 , Lazio\, Italia;X-APPLE-RADIUS=100;X-TITLE=Viterbo:geo:42.417,12.1051
END:VEVENT
BEGIN:VTIMEZONE
TZID:Europe/Rome
X-LIC-LOCATION:Europe/Rome
BEGIN:STANDARD
DTSTART:20231029T020000
TZOFFSETFROM:+0200
TZOFFSETTO:+0100
TZNAME:CET
END:STANDARD
END:VTIMEZONE
END:VCALENDAR