BEGIN:VCALENDAR
VERSION:2.0
PRODID:-//wp-events-plugin.com//7.2.3.1//EN
TZID:Europe/Rome
X-WR-TIMEZONE:Europe/Rome
BEGIN:VEVENT
UID:40618@lazioeventi.com
DTSTART;TZID=Europe/Rome:20250125T210000
DTEND;TZID=Europe/Rome:20250125T224500
DTSTAMP:20250120T131533Z
URL:https://lazioeventi.com/eventi/alessandro-viti
SUMMARY:Alessandro Viti - Anagni - 25 Gennaio 25 21:00
DESCRIPTION:A Casa Barnekow\, Anagni\, dimora storica della Regione Lazio e
  centro culturale\, torna la musica dal vivo cantautoriale il sabato sera.
 \n\nVisto il successo dei primi di gennaio\, torna ospite a Casa Barnekow 
 Alessandro Viti\, cantautore ciociaro\, con un personale e poetico viaggio
  musicale fatto di ricordi\, riflessioni e immagini evocative: SABATO 25 G
 ENNAIO alle ore 21:00. \nSul palco insieme a lui "Quelli col Violino" (Max
  Stefano alla chitarra\, Umberto Pantano alle percussioni e Stefano Giovan
 none al violino) nella creazione di un tessuto sonoro raffinato e allo ste
 sso tempo intensamente emotivo. \n\nI posti sono limitati\, la prenotazion
 e è fortemente consigliata al 328 835 0889 WhatsApp
ATTACH;FMTTYPE=image/jpeg:https://lazioeventi.com/wp-content/uploads/2025/
 01/barnekow-25-gennaio.jpg
CATEGORIES:Musica, Spettacoli e Danza nel Lazio
LOCATION:Anagni\, Comune\, Anagni\, Frosinone\, Lazio\, Italia
GEO:41.7423;13.159
X-APPLE-STRUCTURED-LOCATION;VALUE=URI;X-ADDRESS=Comune\, Anagni\, Frosinone
 \, Lazio\, Italia;X-APPLE-RADIUS=100;X-TITLE=Anagni:geo:41.7423,13.159
END:VEVENT
BEGIN:VTIMEZONE
TZID:Europe/Rome
X-LIC-LOCATION:Europe/Rome
BEGIN:STANDARD
DTSTART:20241027T020000
TZOFFSETFROM:+0200
TZOFFSETTO:+0100
TZNAME:CET
END:STANDARD
END:VTIMEZONE
END:VCALENDAR