BEGIN:VCALENDAR
VERSION:2.0
PRODID:-//wp-events-plugin.com//7.2.3.1//EN
TZID:Europe/Rome
X-WR-TIMEZONE:Europe/Rome
BEGIN:VEVENT
UID:35491@lazioeventi.com
DTSTART;TZID=Europe/Rome;VALUE=DATE:20230624
DTEND;TZID=Europe/Rome;VALUE=DATE:20230626
DTSTAMP:20230517T094644Z
URL:https://lazioeventi.com/eventi/alfa-race-week-5
SUMMARY:Alfa Race Week 5 - Campagnano di Roma - 24 Giugno 23 00:00
DESCRIPTION:ALFA RACE PROJECT insieme a:\nLORENZO FALESSI ELABORAZIONI\nENG
 -CUSTOM\nSCUDERIA TRAGUARDO\nROSRIOGRAM\n\nPresentano l’evento annuale a
 rrivato alla 5’ edizione e dedicato a TUTTI i possessori di vetture marc
 hiate ALFA ROMEO\, sia che siano Nuove\, Storiche o Racing e permetterà a
 d ogni partecipante di passare un fantastico ed emozionante weekend di cuo
 re sportivo dentro uno degli autodromi più importanti del centro Italia: 
 Autodromo di Vallelunga\n\n——————— ———————\n\n
 PROGRAMMA E COSTI:\n\nSABATO 24 GIUGNO\n\nPOMERIGGIO\n\nORE 12.00: RITROVO
  PRESSO MUSEO STORICO AERONAUTICA MILITARE Via Circumlacuale\, 00062 Vigna
  di Valle RM\n\nORE 13.00-14.30 MENÙ DEGUSTAZIONE AL MUSEO\n\nORE 15.00-1
 7.00: VISITA GUIDATA AL MUSEO. SARANNO FORMATI GRUPPI NEL RISPETTO DELLA N
 ORMATIVA VIGENTE IN BASE AL NUMERO TOTALE DEI PARTECIPANTI\n\nDA ORE 17.30
 : RIENTRO LIBERO IN HOTEL\n\nPREZZO MENÙ DEGUSTAZIONE:\nIn via di definiz
 ione\n\nPREZZO INGRESSO MUSEO:\nIn via di definizione\n\nSERA\n\nORE 19.30
 -20.30: ACCESSO IN AUTODROMO SOLO PER ISCRITTI ALLA CENA. ATTENZIONE DALLE
  20.30 VENGONO CHIUSI I CANCELLI.\n\nORE 20.30-00.00: CENA ESCLUSIVA SOTTO
  LE STELLE CON SERVIZIO AL TAVOLO DIRETTAMENTE SUL RETTILINEO DELL’AUTOD
 ROMO DI VALLELUNGA\, Via della Mola Maggiorana\, 4/6\, 00063 Campagnano di
  Roma RM\n\nPREZZO CENA: 50€/PERSONA\n\nPREZZO CENA: 40€/BAMBINO SOTTO
  10anni\n\n——————— ———————\n\nDOMENICA 25 GIUG
 NO\n\nIntera giornata all'insegna del CUORE SPORTIVO con turni in pista ES
 CLUSIVI nell'Arena di Vallelunga con area reiservata nel paddock e con tan
 te sorprese e ospiti speciali nei box.\n\nDALLE ORE 8.30: ACCESSO ALL'AREA
  PADDOCK RISERVATA PER ACCREDITAMENTO ED ESPOSIZIONE STATICA\n\nORE 10.00:
  SALA BRIEFING PER TEORIA PER PARTECIPANTI TURNO IN PISTA + CONSEGNA MODUL
 O SCARICO RESPONSABILITA'\n\nORE 11.00-11.25 TURNO IN PISTA ESCLUSIVO DI 2
 5min MAX 25 vetture\n\nORE 11.30-11.55 TURNO IN PISTA ESCLUSIVO DI 25min M
 AX 25 vetture\n\nORE 12.00-12.25 TURNO IN PISTA ESCLUSIVO DI 25min MAX 25 
 vetture\n\nORE 12.30-12.55 TURNO IN PISTA ESCLUSIVO DI 25min MAX 25 vettur
 e\n\nORE 13.00-13.30 PARATA IN PISTA PER TUTTI I PARTECIPANTI A VELOCITA' 
 RIDOTTA CON SAFETY CAR (CASCO NON ABBLIGATORIO PER PARATA)\n\nORE 13.30-14
 .30 OPEN SELF SERVICE AREA RISTORANTE AUTODROMO (PRANZO LIBERO)\n\nORE 14.
 30-17.00 ESPOSIZIONE STATICA NEL PADDOCK\, INCONTRI CON PILOTI E POSSIBILI
 TA' DI ACQUISTARE DIRETTAMENTE IN AUTODROMO TURNO IN PISTA SALVO SOLD OUT.
 \n\nPREZZO TURNO IN PISTA COMPRESO ACCESSO AL PADDOCK E PARATA:\n-60€/TU
 RNO 25min (VALIDO PER QUALSIASI CATEGORIA DI VETTURA ALFA ROMEO DA RACING 
 A STRADALI)\n-10€/PASSEGGERO\n\nPREZZO CON ACCESSO SOLO AL PADDOCK E PAR
 ATA:\n-25€/VETTURA\n-10€/PASSEGGERO\n-GRATIS/BAMBINI SOTTO 14 ANNI\n\n
 ——————— ———————\n\nNOTE GENERALI IMPORTANTI\n\
 nACCESSO ALL’EVENTO RISERVATA SOLO ED ESLUSIVAMENTE ALLE VETTURE E PERSO
 NE INSERITE NELLA LISTA\n\nDOMENICA PRANZO LIBERO DA PAGARE DIRETTAMENTE A
 L RISTORANTE IN AUTODROMO\n\nPAGAMENTO SOLO ED ESCLUSIVAMENTE ANTICIPATO\,
  NON SI ACCETTANO CONTANTI ALL'ARRIVO\n\nACCESSO TURNO IN PISTA CONSENTITO
  SOLO ED ESCLUSIVAMENTE CON CASCO + GANCIO TRAINO GIA' MONTATO + LIBERATOR
 IA + MAX 1 PASSEGGERO MAGGIORENNE CON LIBERATORIA E CASCO. NO MINORI\n\nOR
 ARIO INGRESSO AREA PADDOCK DOMENICA 25 GIUGNO DALLE 8.30 ALLE 10.00.\n\nME
 NÙ PARTICOLARI\, CELIACI\, INTOLLERANZE\,…DA INDICARE OBBLIGATORIAMENTE
  NEL MODULO ISCRIZIONE IN QUANTO SOPRATTUTTO LA CENA ESSENDO EFFETTUATA DA
  SERVIZIO CATERING DEVE ESSERE AL CORRENTE\n\nLA PRENOTAZIONE E IL PAGAMEN
 TO HOTEL PER PERNOTTAMENTO E' DA EFFETTUARSI DIRETTAMENTE DAL PARTECIPANTE
 . GLI ORGANIZZATORI NON PRENOTANO L'HOTEL\n\nULTERIORI INFORMAZIONI:\nMarc
 o whatsapp 3294773239\nMarco email marco@alfaraceproject.it\n\n———
 ———— ———————\n\nMODALITA' ISCRIZIONE\n\nISCRIZIONE S
 OLO TRAMITE INVIO MODULO COMPILATO SUL SITO WWW.ALFARACEPROJECT.IT\n\nAPER
 TURA ISCRIZIONI DAL 8 MAGGIO 2023 ore 20.30\n\nMODALITA' PAGAMENTO\n\nPER 
 RITENERE VALIDA L'ISCRIZIONE OBBLIGO PAGAMENTO A SALDO ANTICIPATO TRAMITE 
 LE COORDINATE CHE SARANNO INVIATE AL MOMENTO DELL’ISCRIZIONE.\n\nEVENTUA
 LE RIMBORSO VIENE RITENUTO VALIDO CON RICHIESTA ENTRO E NON OLTRE SABATO 1
 0 GIUGNO\n\n——————— ———————\n\nPRENOTAZIONI HO
 TEL\n\nQui di seguito i dati Hotel convenzionato con l'evento che hanno pr
 aticato PREZZI SPECIALI per i partecipanti al raduno\, vista la richiesta 
 importante sono stati selezionati 2 Hotel.\nRICORDO CHE LA PRENOTAZIONE E 
 IL PAGAMENTO E' DA EFFETTUARSI DIRETTAMENTE DAL PARTECIPANTE. GLI ORGANIZZ
 ATORI NON PRENOTANO L'HOTEL. AL MOMENTO DELLA PRENOTAZIONE DOVETE INDICARE
  "PARTECIPANTE EVENTO ALFA RACE WEEK" PER AVERE I PREZZI SOTTO RIPORTATI.\
 n\nVALLELUNGA PARK HOTEL\nVIA MOLA MAGGIORANA 4/6 00063 CAMPAGNANO DI ROMA
  TEL 069077445 FAX 069077468 SMS 3281080626\nhotel@vallelunga.it\n\nPREZZI
  Pernotto e prima colazione\nSMART ROOM 72\,00 €\nSINGOLA 90\,00 €\nDO
 PPIA USO SINGOLO 99\,00 €\nDOPPIA/MATRIMONIALE 126\,00 €\nSUITE 180\,0
 0 €\n\nParcheggio e prima colazione compresi nel prezzo
ATTACH;FMTTYPE=image/jpeg:https://lazioeventi.com/wp-content/uploads/2023/
 05/locandina-alfa-race-week-V.jpg
CATEGORIES:Musica, Spettacoli e Danza nel Lazio
LOCATION:Campagnano di Roma\, Comune di Campagnano di Roma\, Campagnano di 
 Roma\, Roma\, Lazio\, Italia
GEO:42.1405;12.38
X-APPLE-STRUCTURED-LOCATION;VALUE=URI;X-ADDRESS=Comune di Campagnano di Rom
 a\, Campagnano di Roma\, Roma\, Lazio\, Italia;X-APPLE-RADIUS=100;X-TITLE=
 Campagnano di Roma:geo:42.1405,12.38
END:VEVENT
BEGIN:VTIMEZONE
TZID:Europe/Rome
X-LIC-LOCATION:Europe/Rome
BEGIN:DAYLIGHT
DTSTART:20230326T030000
TZOFFSETFROM:+0100
TZOFFSETTO:+0200
TZNAME:CEST
END:DAYLIGHT
END:VTIMEZONE
END:VCALENDAR