BEGIN:VCALENDAR
VERSION:2.0
PRODID:-//wp-events-plugin.com//7.2.3.1//EN
TZID:Europe/Rome
X-WR-TIMEZONE:Europe/Rome
BEGIN:VEVENT
UID:38813@lazioeventi.com
DTSTART;TZID=Europe/Rome;VALUE=DATE:20240601
DTEND;TZID=Europe/Rome;VALUE=DATE:20240602
DTSTAMP:20240321T143334Z
URL:https://lazioeventi.com/eventi/alice-al-contrario-e-donna-che-nuota-so
 ttacqua
SUMMARY:Alice al contrario e Donna che nuota sott’acqua - Canino - 1 Giug
 no 24 00:00
DESCRIPTION:Torna per la seconda edizione “EXTRA Teatro Festival”\, ide
 ato e organizzato da Anonima Teatri\, sostenuto dalla Regione Lazio e dal 
 Comune di Canino ed in collaborazione della Direzione Regionale Musei del 
 Lazio. Attraverso lo spettacolo dal vivo\, il Festival multidisciplinare s
 i propone di rilanciare il patrimonio culturale della nostra regione\, in 
 particolare della Tuscia\, con attenzione al territorio del Comune di Cani
 no e al Parco Archeologico di Vulci\, noto come la porta del Lazio.\n\nL'o
 biettivo è promuovere un luogo situato tra il mare e le colline\, caratte
 rizzato da un enorme potenziale turistico e un valore storico incommensura
 bile.\n\nIl titolo “EXTRA” riprende e “cita” il prodotto su cui si
  basa gran parte dell’economia locale intorno al Parco Archeologico\, ov
 vero L’Olio di Canino DOP\, un nome\, un titolo che possa coniugare terr
 itorio\, cultura\, turismo ed economia.\nIl programma ideato e diretto da 
 Aleksandros Memetaj e Yoris Petrillo\, si svilupperà tra marzo e giugno 2
 024 con 17 spettacoli dal vivo\, multidisciplinari\, dedicati alla cittadi
 nanza\, ai bambini e alle famiglie\, ai professionisti dello spettacolo e 
 ai turisti\, in grado di animare la vita culturale e sociale della comunit
 à locale e di rappresentare un richiamo per fruitori esterni\, per far qu
 indi scoprire (o ri-scoprire) i luoghi e il ricco patrimonio artistico e c
 ulturale: il Teatro Comunale Luciano Bonaparte\, il Museo Archeologico di 
 Vulci - Castello dell’Abbadia\, Parco dell’Arancera e Piazza Valentini
 .\nGli spettacoli\, dal carattere innovativo per poetica e messa in scena\
 , si declinano in diversi linguaggi delle discipline artistiche\, spaziand
 o tra prosa\, narrazione\, musica\, danza e nuovo circo\, contribuendo cos
 ì alla diffusione della cultura dello spettacolo dal vivo.\n\nPROGRAMMA:\
 n\n1 giugno\nh 19 | Museo Archeologico di Vulci - Castello dell’Abbadia 
 | danza - per tutte le età\nAlice al contrario\nsite-specific\n\nDi Lore
 dana Parrella\nCon Anne-Gaëlle Stéphant\nProduzione Twain Centro Produz
 ione Danza\nCon il contributo di MiC – Ministero della Cultura\, Regio
 ne Lazio\, Comune di Tuscania\n\n“…in qualche modo è come se mi si ri
 empisse la testa di idee…solo che non so di preciso quali! …”\n\nE s
 e immaginassimo Alice da grande? Come è diventata\, ora che è una donna 
 adulta? Il suo cuore è ancora affettuoso come nell’infanzia\, nonostant
 e lo scorrere del tempo?\nForse crescendo è divenuta altro\, forse ci son
 o decine\, centinaia\, di Alice che non hanno disatteso le aspettative e i
  sogni dell’infanzia\, forse\, anzi\, per certo tutte noi potremmo esser
 e una di loro. D’altra parte in ogni donna di oggi\, potrebbe nasconders
 i la moderna Alice nel paese delle meraviglie.\n\nh 19.30 | Museo Archeolo
 gico di Vulci - Castello dell’Abbadia | teatro multimediale\nDonna che n
 uota sott’acqua\nDrammaturgia e regia di Giacomo Sette\nCon Gloria Sapio
  e Maurizio Repetto\nLuci\, fonica e aiuto regia Luca Pastore\nMusiche ori
 ginali Andrea Cauduro e Luca Theos Boari Ortolani\nProduzione Settimo Ciel
 o\n\nUna performance tra short story\, musica e radioteatro che indaga il 
 rapporto tra arte\, genio e identità umana\, attraverso la figura di Artu
 ro Martini\, uno dei più grandi scultori del ‘900. In tre momenti dive
 rsi della sua vita Martini ripercorre l’origine di una delle sue opere p
 iù importanti\, Donna che nuota sott’acqua\, attraverso tre flash dal 
 suo passato in qualche modo legati alla sua realizzazione. Tre racconti br
 evi scandiscono il tempo della creazione: un primo ambientato ad Anticoli 
 nell’estate del ‘26\, luogo dove Martini ha avuto lo studio per due an
 ni. Qui dopo aver realizzato La fontana di Noè\, al centro del paese\, il
  giovane scultore incontra una misteriosa montanara che sembra rivelargli 
 qualcosa della vita\, in un tripudio di api e acqua. Nel secondo racconto\
 , Marina di Carrara 1942\, lo scultore passeggia sulla spiaggia e incontra
  una donna che sembra quella di Anticoli. La vede tuffarsi\, capisce di am
 arla e di averla sempre amata. Nel terzo\, Venezia 1944\, ospita nel suo s
 tudio il giornalista Gino Scarpa con cui sta creando una specie di autobio
 grafia che diventerà poi l’incompiuto Colloqui sulla scultura. Gino\, p
 erò\, appena sfollato da Milano\, non sembra interessato alla vita di Mar
 tini\, quanto ad un’opera\, un’opera la cui bellezza e stranezza sembr
 ano tormentarlo da quando l’ha vista esposta a dar scandalo alla Biennal
 e di Venezia\, due anni prima… La Donna che Nuota sott’acqua. Gino vor
 rebbe capire perché la scultura è senza testa\, quale sia il suo signifi
 cato e dove la testa sia finita. Se c’è qualcosa di più di un semplic
 e omaggio ad una ragazza di cui Martini si era innamorato vent’anni fa. 
 I tre racconti\, narrati da Gloria Sapio e Maurizio Repetto\, attraversano
  con immagini suggestive la temperatura umana di Martini\, indagando il le
 game tra l’uomo e la sua arte\, tra l’umanità e la creatività.\nLa P
 erformance avviene in cuffie silent-disco ed è divisa in tre stazioni che
  lo spettatore raggiunge visitando il luogo che la ospita. Nella terza sta
 zione i due attori recitano dal vivo\, accompagnati dalle musiche di Andre
 a Cauduro e Luca Theos Boari Ortolani e dalle suggestive immagini della Do
 nna Che nuota Sott’Acqua.\n\nPer questioni organizzative il numero ammes
 so in sala è di soli 30 spettatori\, saranno dunque previste due repliche
  consecutive. È pertanto necessaria la prenotazione.\n\nBIGLIETTERIA:\nTe
 atro Comunale L. Bonaparte € 10\,00 intero / € 7\,00 ridotto e over65 
 / 5€ ridottissimo (sotto i 12 anni)\nParco dell’Arancera € 5\,00\nMu
 seo Archeologico di Vulci | Piazza Valentini € 2\,00\nLa biglietteria ap
 re un’ora prima dell’inizio degli spettacoli\nCIAOTICKETS®\n\nTEATRO 
 COMUNALE LUCIANO BONAPARTE DI CANINO - Corso Giacomo Matteotti\, 3 01011 C
 anino VT\nMUSEO ARCHEOLOGICO DI VULCI - CASTELLO DELL’ABBADIA\, 01011 Ca
 nino VT\nPIAZZA VALENTINI\, 01011 Canino VT\nPARCO DELL'ARANCERA\, 01011 C
 anino VT
ATTACH;FMTTYPE=image/jpeg:https://lazioeventi.com/wp-content/uploads/2023/
 03/EXT-social.jpg
CATEGORIES:Musica, Spettacoli e Danza nel Lazio
LOCATION:Canino\, Comune di Canino\, Canino\, Viterbo\, Lazio\, Italia
GEO:42.4639;11.7489
X-APPLE-STRUCTURED-LOCATION;VALUE=URI;X-ADDRESS=Comune di Canino\, Canino\,
  Viterbo\, Lazio\, Italia;X-APPLE-RADIUS=100;X-TITLE=Canino:geo:42.4639,11
 .7489
END:VEVENT
BEGIN:VTIMEZONE
TZID:Europe/Rome
X-LIC-LOCATION:Europe/Rome
BEGIN:DAYLIGHT
DTSTART:20240331T030000
TZOFFSETFROM:+0100
TZOFFSETTO:+0200
TZNAME:CEST
END:DAYLIGHT
END:VTIMEZONE
END:VCALENDAR