BEGIN:VCALENDAR
VERSION:2.0
PRODID:-//wp-events-plugin.com//7.2.3.1//EN
TZID:Europe/Rome
X-WR-TIMEZONE:Europe/Rome
BEGIN:VEVENT
UID:35259@lazioeventi.com
DTSTART;TZID=Europe/Rome:20230610T113000
DTEND;TZID=Europe/Rome:20230610T130000
DTSTAMP:20230506T073705Z
URL:https://lazioeventi.com/eventi/all-ars-ludi-laboratorio
SUMMARY:ALL - Ars Ludi Laboratorio - Roma - 10 Giugno 23 11:30
DESCRIPTION:Sabato 10 giugno ore 11.30\nALL - Ars Ludi Laboratorio\n\nRodol
 fo Rossi direttore \n\nLa storia della musica\, un tamburo e un pianoforte
 \nmusiche di Bach\, Mozart\, Reich\, Rossini\, Sollima\n\nIngresso gratuit
 o
ATTACH;FMTTYPE=image/jpeg:https://lazioeventi.com/wp-content/uploads/2023/
 05/ars-ludi.jpg
CATEGORIES:Musica, Spettacoli e Danza nel Lazio
LOCATION:Roma\, Via Leopardi\, Roma\, Roma\, Lazio\, Italia
GEO:41.8942;12.5017
X-APPLE-STRUCTURED-LOCATION;VALUE=URI;X-ADDRESS=Via Leopardi\, Roma\, Roma\
 , Lazio\, Italia;X-APPLE-RADIUS=100;X-TITLE=Roma:geo:41.8942,12.5017
END:VEVENT
BEGIN:VTIMEZONE
TZID:Europe/Rome
X-LIC-LOCATION:Europe/Rome
BEGIN:DAYLIGHT
DTSTART:20230326T030000
TZOFFSETFROM:+0100
TZOFFSETTO:+0200
TZNAME:CEST
END:DAYLIGHT
END:VTIMEZONE
END:VCALENDAR