BEGIN:VCALENDAR
VERSION:2.0
PRODID:-//wp-events-plugin.com//7.2.3.1//EN
TZID:Europe/Rome
X-WR-TIMEZONE:Europe/Rome
BEGIN:VEVENT
UID:40736@lazioeventi.com
DTSTART;TZID=Europe/Rome;VALUE=DATE:20250208
DTEND;TZID=Europe/Rome;VALUE=DATE:20250224
DTSTAMP:20250205T122540Z
URL:https://lazioeventi.com/eventi/alla-ricerca-di-caravaggio
SUMMARY:Alla Ricerca di Caravaggio - Marino - 8 Febbraio 25 00:00
DESCRIPTION:A partire da sabato 8 febbraio\, e fino al 23 febbraio p.v.\, i
 l Museo Civico "U. Mastroianni”\, ospiterà la mostra personale dell’a
 rtista Giacomo Arezzo di Trifiletti dal titolo “Alla ricerca di Caravagg
 io”\, con il Patrocinio del Comune di Marino.\n\nGiacomo Arezzo di Trifi
 letti\, nato a Palermo e residente a Roma da molti anni\, è un’artista 
 laureato in giurisprudenza e oggi\, in pensione\, dedica la sua vita alla 
 sua più grande passione\, la fotografia. È Magister Artis dell'Unesco\, 
 che lo porta a girare periodicamente il mondo come relatore in convegni in
 ternazionali sull’arte Arte affrontando anche tematiche sociali.\n\nLa s
 ua fotografia\, i cui soggetti prediletti sono i paesaggi e la natura mort
 a\, è fortemente improntata sulla ricerca e sullo studio della luce come 
 fattore preponderante per descrivere attimi altrimenti nascosti o sconosci
 uti. La sua natura viene descritta come uno splendido mistero nascosto sep
 pur visibile.\n\nSull’evento l’Assessore alla Cultura del Comune di Ma
 rino\, Pamela Muccini dichiara: "Siamo molto felici di ospitare una mostra
  fotografica ispirata da un grande maestro come Caravaggio. Un viaggio all
 a ricerca dei colori esaltati dalla luce compiuta da un artista capace e r
 affinato come Giacomo Arezzo di Trifiletti\, che ringrazio per aver contri
 buito ad arricchire il panorama artistico della nostra città”.
ATTACH;FMTTYPE=image/jpeg:https://lazioeventi.com/wp-content/uploads/2025/
 02/ricerca-caravaggio.jpg
CATEGORIES:Arte e Cultura nel Lazio
LOCATION:Marino\, Comune\, Marino\, Roma\, Lazio\, Italia
GEO:41.7698;12.6586
X-APPLE-STRUCTURED-LOCATION;VALUE=URI;X-ADDRESS=Comune\, Marino\, Roma\, La
 zio\, Italia;X-APPLE-RADIUS=100;X-TITLE=Marino:geo:41.7698,12.6586
END:VEVENT
BEGIN:VTIMEZONE
TZID:Europe/Rome
X-LIC-LOCATION:Europe/Rome
BEGIN:STANDARD
DTSTART:20241027T020000
TZOFFSETFROM:+0200
TZOFFSETTO:+0100
TZNAME:CET
END:STANDARD
END:VTIMEZONE
END:VCALENDAR