BEGIN:VCALENDAR
VERSION:2.0
PRODID:-//wp-events-plugin.com//7.2.3.1//EN
TZID:Europe/Rome
X-WR-TIMEZONE:Europe/Rome
BEGIN:VEVENT
UID:44279@lazioeventi.com
DTSTART;TZID=Europe/Rome:20260427T093000
DTEND;TZID=Europe/Rome:20260427T113000
DTSTAMP:20260422T140832Z
URL:https://lazioeventi.com/eventi/alla-scoperta-della-formia-romana
SUMMARY:Alla scoperta della Formia Romana - Formia - 27 Aprile 26 09:30
DESCRIPTION:La primavera 2026 a Formia si tinge di storia e archeologia. Il
  Comune di Formia\, in collaborazione con la Pro Loco Città di Formia e l
 'associazione Formian Saxon\, presenta "Alla scoperta della Formia Romana"
 \, un affascinante ciclo di passeggiate guidate volto a riscoprire il patr
 imonio millenario custodito tra le strade e i borghi della città.\n\nL'in
 iziativa propone un viaggio nel tempo che attraversa i luoghi simbolo dell
 'antica Hormiae. Dai borghi medievali di Mola e Castellone\, sorti sulle s
 trutture romane\, al tracciato del Decumano Massimo\, fino ai suggestivi r
 esti del Cardine Massimo e alla scoperta delle tradizioni artistiche di Ma
 ranola con il ciclo delle "Madonne del Latte".\n\nOgni appuntamento offrir
 à ai partecipanti la possibilità di accedere a siti d'eccezione\, grazie
  alla collaborazione con il Distretto Musei Lazio e associazioni locali co
 me "S. Erasmo V.M." e "Maranola Nostra". Le passeggiate non sono solo un
 ’occasione di approfondimento culturale\, ma un modo per vivere il terri
 torio in modo lento e consapevole\, accompagnati da guide esperte pronte a
  svelare segreti e curiosità della Formia che fu.\n\nLa partecipazione ag
 li eventi rappresenta un'opportunità unica per cittadini e turisti di ria
 ppropriarsi della memoria storica locale\, visitando gratuitamente musei e
  aree archeologiche solitamente non accessibili o poco conosciute.\nPROGRA
 MMA DELLE PASSEGGIATE – PRIMAVERA 2026\nLunedì 27 Aprile – Ore 09:30\
 nTitolo: Il Decumano Massimo della Formia romana\nDescrizione: Un percorso
  lungo l'asse stradale principale dell'antica città per comprenderne l'ur
 banistica e lo sviluppo.\nSpecial: Include la visita gratuita al Museo in 
 collaborazione con il Distretto Musei Lazio.\nPunto di ritrovo (Briefing):
  Piazza Mattej.\n\nSabato 2 Maggio – Ore 16:30\nTitolo: Il Cardine Massi
 mo della Formia romana\nDescrizione: Esplorazione dell'asse nord-sud della
  città antica\, tra resti archeologici e testimonianze sommerse.\nSpecial
 : Include la visita agli scavi di S. Erasmo in collaborazione con l'Associ
 azione S. Erasmo V.M.\nPunto di ritrovo (Briefing): Piazza Mattej.\n\nSaba
 to 16 Maggio – Ore 16:30\nTitolo: Il Ciclo delle Madonne del Latte\nDesc
 rizione: Un'incursione artistica e spirituale nel borgo collinare di Maran
 ola.\nSpecial: Include la visita al Trappeto di Maranola in collaborazione
  con l'Associazione Maranola Nostra.\nPunto di ritrovo (Briefing): Sagrato
  della Chiesa di S. Luca a Maranola.\n\nNOTE E INFORMAZIONI\nPartecipazion
 e: Si consiglia di contattare la Pro Loco per confermare la propria presen
 za.\nVariazioni: Il programma potrebbe subire variazioni in base alla disp
 onibilità del personale o alle condizioni meteo.\nOrganizzazione: Comune 
 di Formia\, Pro Loco Formia\, Formian Saxon APS.\nContatti: Per dettagli s
 u iscrizioni e disponibilità\, rivolgersi all'Info Point della Pro Loco d
 i Formia.
ATTACH;FMTTYPE=image/jpeg:https://lazioeventi.com/wp-content/uploads/2026/
 04/passeggiate-formia.jpg
CATEGORIES:Arte e Cultura nel Lazio
LOCATION:Formia\, Comune\, Formia\, Latina\, Lazio\, Italia
GEO:41.2559;13.6059
X-APPLE-STRUCTURED-LOCATION;VALUE=URI;X-ADDRESS=Comune\, Formia\, Latina\, 
 Lazio\, Italia;X-APPLE-RADIUS=100;X-TITLE=Formia:geo:41.2559,13.6059
END:VEVENT
BEGIN:VTIMEZONE
TZID:Europe/Rome
X-LIC-LOCATION:Europe/Rome
BEGIN:DAYLIGHT
DTSTART:20260329T030000
TZOFFSETFROM:+0100
TZOFFSETTO:+0200
TZNAME:CEST
END:DAYLIGHT
END:VTIMEZONE
END:VCALENDAR