BEGIN:VCALENDAR
VERSION:2.0
PRODID:-//wp-events-plugin.com//7.2.3.1//EN
TZID:Europe/Rome
X-WR-TIMEZONE:Europe/Rome
BEGIN:VEVENT
UID:28511@lazioeventi.com
DTSTART;TZID=Europe/Rome:20210918T100000
DTEND;TZID=Europe/Rome:20210918T120000
DTSTAMP:20210915T210805Z
URL:https://lazioeventi.com/eventi/alla-scoperta-dellantica-citta-portuale
 -di-ostia-antica
SUMMARY:Alla scoperta dell'antica città portuale di Ostia Antica - Roma - 
 18 Settembre 21 10:00
DESCRIPTION:Vi condurrò in una gradevole passeggiata archeologica a ritros
 o nel tempo all’ombra dei pini secolari di un antica città portuale.\n\
 nVisiteremo insieme questa città\, ancora ben conservata\, che si trova a
  due passi da Roma. Una passeggiata tra mosaici e pini marittimi per capir
 e la vita quotidiana di una città del passato. Ostia era una piccola citt
 à alla foce del tevere\, come ci dice il suo stesso nome\, che deriva dal
 la parola latina Ostium\, che significa bocca.\n\nSecondo la tradizione\, 
 fu fondata dal terzo re di Roma ANCO MARZIO nel 620 a.c. alla foce del Tev
 ere per sfruttare le sue saline.\n\nLa nostra visita ci porterà alla scop
 erta dei luoghi principali della città: il foro con i suoi edifici monume
 ntali\, il magnifico teatro ancora oggi utilizzato le rappresentazioni\, i
 l piazzale delle corporazioni con i suoi  bellissimi mosaici in bianco e 
 nero.\n\nE poi le case\, le botteghe e le strade che proveremo ad immagina
 re affollate e frequentate\, così come doveva essere nella vita quotidian
 a dell'Antica Ostia.\n\nScopriremo usi e costumi del tempo buttando un occ
 hio anche alla tradizione culinaria degli antichi ROMANI.\n\nPERCORSO: da 
 porta Romana fino alla zona del Foro passando per il Teatro\, le terme di 
 Nettuno\, le latrine\, i Molini\, il Termopolio\, gli Horrea e tanto altro
 .\nSi consigliano abiti e scarpe comode.\n\nAPP.TO: All’ingresso area ar
 cheologica OSTIA ANTICA (Viale dei Romagnoli 717).\n Durata visita guid
 ata: 2h:00.\n Orario visita: inizio ore 10:00 – termine 12:00.\n C
 osto visita guidata: 10 euro adulti\, 5 euro ragazzi fino a 18 anni\, grat
 is bambini fino a dieci anni.\n Eventuali auricolari: 2 euro a persona.
 \n Biglietto area archeologica:12\,00 euro.\nPer i giovani dai 18 ai 25
  anni dell’Unione Europea il costo è di 2\,00 euro.\nSotto i 18 anni l
 ’ingresso è gratuito.\n Per prenotazione chiama il numero 335.81.45.
 599 Nunzia o scrivi alla mail: nunzarbol@gmail.com specificando nome\, num
 ero persone e recapito telefonico.\n*La prenotazione è indispensabile per
  ricevere conferma e per essere contattati in caso di variazioni.
CATEGORIES:Arte e Cultura nel Lazio
LOCATION:Roma\, Via Leopardi\, Roma\, Roma\, Lazio\, Italia
GEO:41.8942;12.5017
X-APPLE-STRUCTURED-LOCATION;VALUE=URI;X-ADDRESS=Via Leopardi\, Roma\, Roma\
 , Lazio\, Italia;X-APPLE-RADIUS=100;X-TITLE=Roma:geo:41.8942,12.5017
END:VEVENT
BEGIN:VTIMEZONE
TZID:Europe/Rome
X-LIC-LOCATION:Europe/Rome
BEGIN:DAYLIGHT
DTSTART:20210328T030000
TZOFFSETFROM:+0100
TZOFFSETTO:+0200
TZNAME:CEST
END:DAYLIGHT
END:VTIMEZONE
END:VCALENDAR