BEGIN:VCALENDAR
VERSION:2.0
PRODID:-//wp-events-plugin.com//7.2.3.1//EN
TZID:Europe/Rome
X-WR-TIMEZONE:Europe/Rome
BEGIN:VEVENT
UID:37749@lazioeventi.com
DTSTART;TZID=Europe/Rome:20231115T200000
DTEND;TZID=Europe/Rome:20231115T214500
DTSTAMP:20231110T105529Z
URL:https://lazioeventi.com/eventi/altra-voce
SUMMARY:Altra Voce - Roma - 15 Novembre 23 20:00
DESCRIPTION:Silvia Capra soprano\nPaolo Zampini flauto\n\nIl nuovo appuntam
 ento della IUC in collaborazione con Goethe-Institut Italien è Altra Voce
  con il soprano Silvia Capra e Paolo Zampini al flauto.\n\nIn “Altra voc
 e” Luciano Berio stravolge lo spazio sonoro mentre lo strumento e la voc
 e si cercano\, si rincorrono in livelli sonori differenti\, raggiungendosi
  infine come in un duetto d'amore.\n\nÈ l'anno 1100 e Hildegarda di Binge
 n\, monaca\, scrittrice\, teologa\, mistica\, figura dalle mille capacità
 \, dichiarata nel 2012 dottore della Chiesa da Benedetto XVI\, è consider
 ata forse la prima compositrice donna della storia. Vogliamo partire dal s
 uo canto gregoriano\, “O magne pater” per farci accompagnare\, attrave
 rso un'atmosfera di meditazione\, nel percorrere la strada talvolta tortuo
 sa\, talvolta più leggera\, dell'animo umano.\n\nBarbara Strozzi ci descr
 ive i tormenti di un'anima tradita\, mentre Debussy\, Caplet\, Roussel\, H
 indemith\, con eleganza e delicatezza\, dipingono paesaggi poetici attrave
 rso pennellate evocative stracolme di pathos.\n\nIronico invece “WOW” 
 di Ennio Morricone\, compositore che pure ha amato le voci femminili fino 
 a farne icone dei suoi lavori per il cinema e per le sue composizioni cont
 emporanee. “CinquantEnNico” lavoro finora sconosciuto e dedicato all
 ’amico Nicola Schittone nel 2013\, viene presentato in Prima assoluta.\n
 \nIn ultimo “Changing Light”\, dove troviamo ancora il dialogo tra due
  entità\, una interiore e l’altra sonora\, a chiudere questo cerchio di
  meditazione. La compositrice finlandese Kaija Saariaho presenta così il 
 suo brano: "Nella composizione seguo l'idea di un dialogo\, suggerita dal 
 testo che ho scelto. La natura intima e il fragile mondo sonoro del duo ri
 specchiano la fragilità della nostra incerta esistenza."\n\nMusiche di Be
 rio\, Hildegarda di Bingen\, Barbara Strozzi\, Debussy\, Caplet\, Roussel\
 , Hindemith\, Morricone\, Saariaho\n\n____________________________________
 \n\nBiglietti: posto unico € 5\,00 \nAcquistabile Online\, contattando l
 a IUC oppure la sera del concerto presso l'Auditorium del Goethe Institut 
ATTACH;FMTTYPE=image/jpeg:https://lazioeventi.com/wp-content/uploads/2023/
 11/altra-voce.jpeg
LOCATION:Roma\, Via Leopardi\, Roma\, Roma\, Lazio\, Italia
GEO:41.8942;12.5017
X-APPLE-STRUCTURED-LOCATION;VALUE=URI;X-ADDRESS=Via Leopardi\, Roma\, Roma\
 , Lazio\, Italia;X-APPLE-RADIUS=100;X-TITLE=Roma:geo:41.8942,12.5017
END:VEVENT
BEGIN:VTIMEZONE
TZID:Europe/Rome
X-LIC-LOCATION:Europe/Rome
BEGIN:STANDARD
DTSTART:20231029T020000
TZOFFSETFROM:+0200
TZOFFSETTO:+0100
TZNAME:CET
END:STANDARD
END:VTIMEZONE
END:VCALENDAR