BEGIN:VCALENDAR
VERSION:2.0
PRODID:-//wp-events-plugin.com//7.2.3.1//EN
TZID:Europe/Rome
X-WR-TIMEZONE:Europe/Rome
BEGIN:VEVENT
UID:26974@lazioeventi.com
DTSTART;TZID=Europe/Rome;VALUE=DATE:20200712
DTEND;TZID=Europe/Rome;VALUE=DATE:20200713
DTSTAMP:20200710T172842Z
URL:https://lazioeventi.com/eventi/amato-scarpellino-live-show-ad-aquafeli
 x
SUMMARY:Amato Scarpellino live show ad Aquafelix - Civitavecchia - 12 Lugli
 o 20 00:00
DESCRIPTION:Grande festa nel Parco acquatico di Civitavecchia con l’artis
 ta e showman Amato Scarpellino. Domenica 12 luglio 2020\, grande festa ad 
 Aquafelix\, il Parco acquatico di Civitavecchia\, situato alle porte di Ro
 ma. Amato Scarpellino sarà ospite d’ecc
ATTACH;FMTTYPE=image/jpeg:https://lazioeventi.com/wp-content/uploads/2020/
 07/amato_live12_luglio1200.jpg
CATEGORIES:Musica, Spettacoli e Danza nel Lazio
LOCATION:Civitavecchia\, Comune\, Civitavecchia\, Roma\, Lazio\, Italia
GEO:42.0911;11.7968
X-APPLE-STRUCTURED-LOCATION;VALUE=URI;X-ADDRESS=Comune\, Civitavecchia\, Ro
 ma\, Lazio\, Italia;X-APPLE-RADIUS=100;X-TITLE=Civitavecchia:geo:42.0911,1
 1.7968
END:VEVENT
BEGIN:VTIMEZONE
TZID:Europe/Rome
X-LIC-LOCATION:Europe/Rome
BEGIN:DAYLIGHT
DTSTART:20200329T030000
TZOFFSETFROM:+0100
TZOFFSETTO:+0200
TZNAME:CEST
END:DAYLIGHT
END:VTIMEZONE
END:VCALENDAR