BEGIN:VCALENDAR
VERSION:2.0
PRODID:-//wp-events-plugin.com//7.2.3.1//EN
TZID:Europe/Rome
X-WR-TIMEZONE:Europe/Rome
BEGIN:VEVENT
UID:28664@lazioeventi.com
DTSTART;TZID=Europe/Rome:20211010T090000
DTEND;TZID=Europe/Rome:20211010T180000
DTSTAMP:20211008T103507Z
URL:https://lazioeventi.com/eventi/amici-in-bici
SUMMARY:Amici in Bici - Pontecorvo - 10 Ottobre 21 09:00
DESCRIPTION:Dopo una lunga pausa dovuta all'emergenza covid 19 ritorna la g
 rande festa dedicata alla bici\, alla natura\, alla convivialità\, torna 
 "AMICI IN BICI".\n\nUna giornata dedicata esclusivamente alla bici e alla 
 famiglia perché non c'è nulla di più bello che pedalare in compagnia ne
 lla nostra del nostro paese.\n\nManifestazione aperta a tutti dai più gra
 ndi ai più piccolini\,divertimento assicurato.
ATTACH;FMTTYPE=image/jpeg:https://lazioeventi.com/wp-content/uploads/2021/
 10/PonteBikeCorvo.jpg
CATEGORIES:Sport, Tempo Libero e Divertimento nel Lazio
LOCATION:Pontecorvo\, Comune\, Pontecorvo\, Frosinone\, Lazio\, Italia
GEO:41.457;13.6663
X-APPLE-STRUCTURED-LOCATION;VALUE=URI;X-ADDRESS=Comune\, Pontecorvo\, Frosi
 none\, Lazio\, Italia;X-APPLE-RADIUS=100;X-TITLE=Pontecorvo:geo:41.457,13.
 6663
END:VEVENT
BEGIN:VTIMEZONE
TZID:Europe/Rome
X-LIC-LOCATION:Europe/Rome
BEGIN:DAYLIGHT
DTSTART:20210328T030000
TZOFFSETFROM:+0100
TZOFFSETTO:+0200
TZNAME:CEST
END:DAYLIGHT
END:VTIMEZONE
END:VCALENDAR