BEGIN:VCALENDAR
VERSION:2.0
PRODID:-//wp-events-plugin.com//7.2.3.1//EN
TZID:Europe/Rome
X-WR-TIMEZONE:Europe/Rome
BEGIN:VEVENT
UID:43550@lazioeventi.com
DTSTART;TZID=Europe/Rome:20260123T203000
DTEND;TZID=Europe/Rome:20260125T203000
DTSTAMP:20260114T121420Z
URL:https://lazioeventi.com/eventi/amori-al-royal-hotel
SUMMARY:Amori al Royal Hotel - Roma - 23 Gennaio 26 20:30
DESCRIPTION:Giorgio Gori\, torna in scena con una commedia dal sapore amaro
 \, Amori al Royal Hotel\, uno spettacolo liberamente tratto da Appartament
 o al Plaza di Neil Simon. Giorgio Gori ne riadatta le vicende ambientandol
 e in Italia\, all’Hotel Royal di Roma.\n\nAttraverso un raffinato gioco 
 di luci che segna il passaggio da un episodio all’altro\, lo spettacolo 
 racconta tre storie diverse\, tutte ambientate nella stessa camera del Roy
 al.\nTre racconti d’amore due sposi\, due amanti e due genitori alle pre
 se con il matrimonio della figlia – che si muovono tra comicità grottes
 ca e riflessione\, restituendo uno sguardo ironico ma autentico sui rappor
 ti umani.\n\nLa scelta di portare in scena ancora una volta un testo tratt
 o da un’opera di Neil Simon nasce da una precisa volontà del regista Go
 ri\, che dichiara:\n\n«La scelta del testo è puramente tecnica. Ho volut
 o fortemente mettere in scena questo testo per far ridere pensando\, dando
  spazio agli attori e liberarli dal solito canone della comicità che siam
 o abituati a vedere. Ho riadattato il testo per creare un miscuglio tra hu
 mour inglese e comicità nostrana\, ma ho lasciato l'impronta dei personag
 gi di Simon. Voglio far ridere ma anche far riflettere su come siamo e com
 e le piccole cose non ci devono mai sfuggire da mano. Non bisogna avere tu
 tto e subito ma creare una propria scala di valori\, di amori e di success
 i.»\n\nOrari:\nVenerdì 23 gennaio 2026 ore 20.30\nSabato 24 gennaio 2026
  ore 20.30\nDomenica 25 gennaio 2026 ore 18.00\n\nBiglietto: \n€ 15\,00 
 inclusa tessera associativa annuale\n \nAMORI AL ROYAL HOTEL\nLiberamente 
 tratto da Appartamento al Plaza di Neil Simon\nScritto\, diretto e interpr
 etato da\nGiorgio Gori\nCon\nAchiropita Dalila Bosco\ne la partecipazione 
 straordinaria di \nSimona di Sarno\ne con: Paolo Monetti\, Sara Bartalini\
 , Diana Baldi\, Rita Besson\, Ugo Besson\, Arturo Pizzicannella\, Fabiola 
 Zossolo e Cristian Guadalaxara.\nAiuto regia: Achiropita Dalila Bosco – 
 Scene: Alice Battilani \nGrafica: Valedia Adinolfi
ATTACH;FMTTYPE=image/jpeg:https://lazioeventi.com/wp-content/uploads/2026/
 01/Locandina.jpg
CATEGORIES:Musica, Spettacoli e Danza nel Lazio
LOCATION:Roma\, Via Leopardi\, Roma\, Roma\, Lazio\, Italia
GEO:41.8942;12.5017
X-APPLE-STRUCTURED-LOCATION;VALUE=URI;X-ADDRESS=Via Leopardi\, Roma\, Roma\
 , Lazio\, Italia;X-APPLE-RADIUS=100;X-TITLE=Roma:geo:41.8942,12.5017
END:VEVENT
BEGIN:VTIMEZONE
TZID:Europe/Rome
X-LIC-LOCATION:Europe/Rome
BEGIN:STANDARD
DTSTART:20251026T020000
TZOFFSETFROM:+0200
TZOFFSETTO:+0100
TZNAME:CET
END:STANDARD
END:VTIMEZONE
END:VCALENDAR