BEGIN:VCALENDAR
VERSION:2.0
PRODID:-//wp-events-plugin.com//7.2.3.1//EN
TZID:Europe/Rome
X-WR-TIMEZONE:Europe/Rome
BEGIN:VEVENT
UID:37627@lazioeventi.com
DTSTART;TZID=Europe/Rome:20231210T170000
DTEND;TZID=Europe/Rome:20231210T183000
DTSTAMP:20231031T105935Z
URL:https://lazioeventi.com/eventi/anapoda
SUMMARY:ANAPODA - Roma - 10 Dicembre 23 17:00
DESCRIPTION:ANAPODA – dal greco\, “sottosopra” – nasce dall’urgen
 za di capovolgere ogni logica sfidando la percezione visiva ordinaria e gi
 ocando con i propri miti e mostri interiori\, per farli incontrare con lo 
 sguardo di chi\, osservando a sua volta\, capovolgerà ancora la visione s
 eguendo la propria percezione razionale ed emotiva. Un giro di giostra\, d
 i occhi\, di maschere e identità ispirate all’immaginario della fotogra
 fa spagnola Ana Hell. \nDue donne dall’aspetto bizzarro vengono catapult
 ate in un mondo sottosopra dove frammenti di vissuto e stereotipi idealizz
 ati dalle svariate personalità si mescolano\, trasportate in un’altra d
 imensione dove tutto scorre al contrario. Un mondo ribaltato nel quale il 
 cielo diviene pavimento in una continua illusoria percezione del corpo.\n\
 nLo spettacolo è popolato da delle maschere in carne e ossa: le schiene. 
 Queste maschere\, ispirate alla serie di fotografie Secret Friends della f
 otografa Ana Hell\, creano un mondo “altro”\, abitato interamente da q
 uesti bizzarri e surreali personaggi. L’artificio consiste nel disegnare
  sulla schiena i tratti di un volto\, una bocca e degli occhi\, nel restar
 e piegate con la testa in giù in modo che il cielo divenga pavimento con 
 tutti i limiti fisici del capovolgimento. Nel momento in cui si torna su i
 n posizione verticale\, nella nostra abituale posizione\, la figura intera
  e reale diviene paradossalmente\, nel gioco dell’illusione ottica\, que
 lla aliena e distante da noi. \nUn’immagine nell’acqua proietta se ste
 ssa nel riflesso del suo mondo capovolto\, lasciando emergere quella parte
  segreta. Condividere le possibilità fisiche di un corpo scomodo\, messo 
 in difficoltà\, in nuove dinamiche fisiche che\, se da una parte ostacola
 no il movimento\, dall’altra danno la possibilità di aprire a nuovi mod
 i di muoversi. In una società dove purtroppo molte cose vanno sottosopra 
 il nostro intento è quello di creare un mondo surreale\, ricco di illusio
 ni dove il sottosopra serve a svelare un mondo onirico\, in un tempo sospe
 so\, nel quale il contrario svela una realtà intima segreta. Capire come 
 si può passare da un piccolo disegno o tratto di trucco sul corpo alla fo
 rmazione di un’espressione facciale: quasi come uno di quei giochi di en
 igmistica dove bisogna unire vari punti per formare un’immagine. Anche s
 e il processo cognitivo e razionale è molto legato all’immagine e al fe
 edback visivo\, spesso il processo ci regala occasioni di scoperta di univ
 erso emotivo sommerso\, legato al nostro vissuto e ad ideali\, convenzioni
  sociali di cui\, nostro malgrado\, talvolta inconsapevolmente siamo intri
 se. Interrogandoci sulla necessità che abbiamo e che abbiamo avuto di ves
 tirci di qualcosa per dare ai nostri corpi\, testimoni e templi delle nost
 re esistenze\, un senso.\n\nLa scena è popolata da vari personaggi tutti 
 al femminile. Un universo parallelo animato da svariati prototipi di perso
 na\, opposti tra loro\, sbucati fuori spontaneamente dai nostri vissuti\, 
 dai quei modelli di riferimento spesso idealizzati che hanno segnato un mo
 mento del nostro percorso di crescita come persone. Universi di riferiment
 o\, miti e mostri insomma\, tutti personificazione di desideri\, illusioni
  e archetipi spesso presenti nel terreno psichico del femminino.\n\ndi e c
 on Federica Aloisio e Sabrina Vicari\ncostumi Sabrina Vicari (Consuendi)\n
 luci Danila Blasi\nmusiche Angelo Sicurella\nproduzione PinDoc\ncon il con
 tributo del MIC e della Regione Siciliana
ATTACH;FMTTYPE=image/jpeg:https://lazioeventi.com/wp-content/uploads/2023/
 10/ANAPODA_post-quadrato.png
CATEGORIES:Musica, Spettacoli e Danza nel Lazio
LOCATION:Roma\, Via Leopardi\, Roma\, Roma\, Lazio\, Italia
GEO:41.8942;12.5017
X-APPLE-STRUCTURED-LOCATION;VALUE=URI;X-ADDRESS=Via Leopardi\, Roma\, Roma\
 , Lazio\, Italia;X-APPLE-RADIUS=100;X-TITLE=Roma:geo:41.8942,12.5017
END:VEVENT
BEGIN:VTIMEZONE
TZID:Europe/Rome
X-LIC-LOCATION:Europe/Rome
BEGIN:STANDARD
DTSTART:20231029T020000
TZOFFSETFROM:+0200
TZOFFSETTO:+0100
TZNAME:CET
END:STANDARD
END:VTIMEZONE
END:VCALENDAR