BEGIN:VCALENDAR
VERSION:2.0
PRODID:-//wp-events-plugin.com//7.2.3.1//EN
TZID:Europe/Rome
X-WR-TIMEZONE:Europe/Rome
BEGIN:VEVENT
UID:35971@lazioeventi.com
DTSTART;TZID=Europe/Rome:20230806T210000
DTEND;TZID=Europe/Rome:20230806T230000
DTSTAMP:20230620T171925Z
URL:https://lazioeventi.com/eventi/anche-i-santi-hanno-i-brufoli-2
SUMMARY:Anche i Santi hanno i brufoli - Ariccia - 6 Agosto 23 21:00
DESCRIPTION:A chiudere la nuova stagione di Fantastiche Visioni è Giovanni
  Scifoni in scena il 6 agosto con Anche i Santi hanno i brufoli\, accompag
 nato dagli strumenti di Davide Vaccari e Maurizio Picchiò. “nche i sant
 i hanno i brufoli prende in prestito le vite e le opere di quattro grandi 
 personaggi: San Giovanni Bosco\, Sant’Agostino\, San Giovanni di Dio\, S
 anta Francesca Romana. E insieme a loro ripercorre quei racconti dimentica
 ti\, quando nonna parlava e non aveva paura a mescolare realtà e leggenda
 . I santi facevano di tutto\, eroi giganteschi in piccoli corpi\, innamora
 ti pazzi\, che partono per un viaggio per scoprire qual è l'impresa che D
 io ha affidato loro. È un viaggio inquieto\, pieno di peripezie\, fallime
 nti\, ma a volte succede qualcosa di strano\, sembra che Dio lo faccia app
 osta: si sceglie le persone peggiori per compiere le sue grandi opere\, e 
 forse lo fa apposta\, per rendere evidente che sicuramente è merito Suo.\
 n\nIngresso: € 5 (biglietto unico)
ATTACH;FMTTYPE=image/jpeg:https://lazioeventi.com/wp-content/uploads/2023/
 06/Anche-i-santi-hanno-i-brufoli.jpeg
CATEGORIES:Musica, Spettacoli e Danza nel Lazio
LOCATION:Ariccia\, Comune\, Ariccia\, Roma\, Lazio\, Italia
GEO:41.72;12.671
X-APPLE-STRUCTURED-LOCATION;VALUE=URI;X-ADDRESS=Comune\, Ariccia\, Roma\, L
 azio\, Italia;X-APPLE-RADIUS=100;X-TITLE=Ariccia:geo:41.72,12.671
END:VEVENT
BEGIN:VTIMEZONE
TZID:Europe/Rome
X-LIC-LOCATION:Europe/Rome
BEGIN:DAYLIGHT
DTSTART:20230326T030000
TZOFFSETFROM:+0100
TZOFFSETTO:+0200
TZNAME:CEST
END:DAYLIGHT
END:VTIMEZONE
END:VCALENDAR