BEGIN:VCALENDAR
VERSION:2.0
PRODID:-//wp-events-plugin.com//7.2.3.1//EN
TZID:Europe/Rome
X-WR-TIMEZONE:Europe/Rome
BEGIN:VEVENT
UID:40999@lazioeventi.com
DTSTART;TZID=Europe/Rome;VALUE=DATE:20250330
DTEND;TZID=Europe/Rome;VALUE=DATE:20250331
DTSTAMP:20250322T080924Z
URL:https://lazioeventi.com/eventi/anello-di-monte-gemma
SUMMARY:Anello di Monte Gemma - Supino - 30 Marzo 25 00:00
DESCRIPTION:Panorama a 360° dai Monti LepiniEscursione adatta anche a raga
 zzi e famiglie\nCOSA FAREMO?\nFacile escursione ad anello su una delle vet
 te più panoramiche dei Monti Lepini.\nPartendo da Fonte Santa Serena segu
 iremo Pian della Croce per prendere la Cresta Ovest di Monte Gemma\, una b
 ellissima cavalcata di cresta ci porterà fino alla vetta.\nIl rientro per
  la direttissima.\nDETTAGLI TECNICI:\nItinerario: Fonte Santa Serena - Pia
 n della Croce - Cresta Ovest - Monte Gemma - Fonte Santa Serena\nDislivell
 o complessivo: +450m\nLunghezza a/r: 7 Km\nTempi a/r: 4h\nGrado di diffico
 ltà: Escursionistico (E)\nAccompagnatore: AE Vito Altamura - AE Giovanni 
 Macrino\nPasso: Medio\nTrasporto: Da valutare (nel caso fossimo almeno 40 
 partecipanti si può fare il Bus GT)\nPranzo: A sacco\nNote: Percorso adat
 to a tutti\nIL PROGRAMMA DELLA GIORNATA:\n- Ore 8:00 - Itri\, "Pallone"\n-
  Ore 8:10 - Formia/Vindicio\, "Conchiglia"\n- Ore 8:20 - Formia/S.Pietro\,
  "Salus"\n- Ore 8:30 - Formia/S.Croce\, "Caseificio Bufalo d'Oro"\n- Ore 1
 0:30 - Inizio escursione\n- Ore 15:30 - Termine escursione\n- Ore 16:00 - 
 Rientro\n- Ore 18:30 - Arrivo a Formia\n- Ore 19:00 - Arrivo ad Itri\nPer 
 chi venisse da fuori l'appuntamento è direttamente all'inizio del sentier
 o\, ecco le coordinate: https://maps.app.goo.gl/dVmUUygn1ut7gXDA7\nLa part
 ecipazione all’escursione è aperta a tutti.\n\nModalità di partecipazi
 one\nPrenotazione obbligatoria: entro il 28 marzo 2025 chiamando direttame
 nte Giovanni Macrino\, Tel. 378.0895006 (anche whatsapp)\nCondivisione dei
  costi:\n- Eventuale passaggio bus: €14\,00/17\,00 (a seconda del numero
  di partecipanti)\n- Eventuale passaggio auto: €12\,00 da dare direttame
 nte agli autisti (loro non pagano)\n- Ai non soci è richiesta la quota as
 sicurativa di €7\,00\nQuota di partecipazione:  nessuna\, tutti i nostri
  eventi sono e saranno sempre gratuiti.\n\nN.B.: Gli accompagnatori e coor
 dinatori dell’associazione Atargatis APS non prendono alcun compenso\, i
 l loro accompagnamento è sempre a titolo completamente gratuito fatta ecc
 ezione per eventuali rimborsi su eventuali costi\, li dove fossero stati a
 ffrontati.\nL’Associazione Atargatis APS\, affiliata FIE (Federazione It
 aliana Escursionismo)\, è dotata di copertura RCT ed INFORTUNI sulle prop
 rie attività.\n\n\nATTREZZATURA OBBLIGATORIA:\n- scarpe da trekking\,\n- 
 pantaloni comodi\,\n- maglia/maglietta traspirante\,\n- ... e tanta allegr
 ia!\nCosa è necessario portare nello zaino:\n- Borraccia della capacità 
 di almeno 1\,5 litri d’acqua\,\n- mantella impermeabile\,\n- maglia di p
 ile\,\n- guanti\,\n- cappello\,\n- frutta secca\,\n- pranzo al sacco\,\n- 
 ricambio intimo (da lasciare in macchina)\,\n- occhiali da sole.\n\nN.B. C
 hi sprovvisto di adeguati materiali non potrà partecipare all'escursione.
 \n\nAVVERTENZE:\nLa frequentazione della montagna comporta dei rischi comu
 nque ineliminabili e pertanto con la richiesta di iscrizione all’escursi
 one il partecipante esplicitamente attesta e dichiara di non aver alcun im
 pedimento fisico e psichico alla pratica dell’escursionismo\, di essere 
 idoneo dal punto di vista medico e di avere una preparazione fisica adegua
 ta alla difficoltà dell’escursione della quale conferma aver preso visi
 one delle caratteristiche.\nPER INFORMAZIONI ED ADESIONI:\nAE Giovanni Mac
 rino\, Tel. 378.0895006\neMail: info@atargatis.it\n\n
ATTACH;FMTTYPE=image/jpeg:https://lazioeventi.com/wp-content/uploads/2025/
 03/Manifesto-Monte-Gemma-Pagina001.jpeg
CATEGORIES:Sport, Tempo Libero e Divertimento nel Lazio
LOCATION:Supino\, Via del Calvone\, Supino\, Frosinone\, Lazio\, Italia
GEO:41.6119;13.2316
X-APPLE-STRUCTURED-LOCATION;VALUE=URI;X-ADDRESS=Via del Calvone\, Supino\, 
 Frosinone\, Lazio\, Italia;X-APPLE-RADIUS=100;X-TITLE=Supino:geo:41.6119,1
 3.2316
END:VEVENT
BEGIN:VTIMEZONE
TZID:Europe/Rome
X-LIC-LOCATION:Europe/Rome
BEGIN:STANDARD
DTSTART:20241027T020000
TZOFFSETFROM:+0200
TZOFFSETTO:+0100
TZNAME:CET
END:STANDARD
BEGIN:DAYLIGHT
DTSTART:20250330T030000
TZOFFSETFROM:+0100
TZOFFSETTO:+0200
TZNAME:CEST
END:DAYLIGHT
END:VTIMEZONE
END:VCALENDAR