BEGIN:VCALENDAR
VERSION:2.0
PRODID:-//wp-events-plugin.com//7.2.3.1//EN
TZID:Europe/Rome
X-WR-TIMEZONE:Europe/Rome
BEGIN:VEVENT
UID:33705@lazioeventi.com
DTSTART;TZID=Europe/Rome;VALUE=DATE:20230109
DTEND;TZID=Europe/Rome;VALUE=DATE:20230122
DTSTAMP:20230108T234840Z
URL:https://lazioeventi.com/eventi/angelo-paccosi-in-mostra-a-la-via-degli
 -artisti
SUMMARY:Angelo Paccosi in mostra a "La via degli artisti" - Viterbo - 9 Gen
 naio 23 00:00
DESCRIPTION:La pittura materica di Angelo Paccosi è in mostra alla galleri
 a de “La via degli artisti"\n\nFino al 20 gennaio 2023 l’amato artista
  contemporaneo Angelo Paccosi\, già facchino\, è in mostra\, a Viterbo\,
  al palazzo in via cardinal la Fontaine angolo piazza San Carluccio. Nelle
  parole di Patrizia Sora\, critica d’arte contemporanea: La pittura mate
 rica di Angelo Paccosi è in mostra alla galleria de “La via degli artis
 ti". Lo spessore della materia pittorica dialoga con la luce\, la distanza
 \, l'angolazione dello sguardo. Uno stiacciato pittorico che crea suggesti
 oni prospettiche\, luci ed ombre. Le figure e gli elementi\,  incise nell'
 impasto denso della materia grezza\, si esaltano accogliendo i pigmenti de
 l colore. Nell'astrazione lirica e poetica della tela\, Angelo Paccosi ci 
 consegna una riflessione profonda sull'Umano e l'ineludibile bisogno di Be
 llezza.”\n\nLa ‘perfetta armonia tra materia e colore può essere megl
 io  apprezzata dal vivo. Ingresso libero e la possibilità di una visita g
 uidata direttamente dal grande Angelo Paccosi fino al 20 Gennaio 2023.\n\n
 Al vernissage della mostra era presente il gota dell’arte viterbese: il 
  maestro del 900 viterbese Alessio Paternesi\, la professoressa Laura Prin
 cipi direttrice artistica de la via degli artisti e di Tuscia in fiore\, l
 a critica d’arte Patrizia Sora di Soriano oltre ad altri artisti ed appa
 ssionati.\n\nA seguire\, Sabato 21 gennaio dalle 18:45\, con partenza da P
 iazza del Comune\, Caccia al tesoro del centro storico con il patrocinio d
 el Comune di Viterbo.  Avanti tutta. Questa è la mia città\, la tengo st
 retta al cuore.\n\n
ATTACH;FMTTYPE=image/jpeg:https://lazioeventi.com/wp-content/uploads/2023/
 01/paccosi.jpeg
CATEGORIES:Arte e Cultura nel Lazio
LOCATION:Viterbo\, Comune\, Viterbo\, Viterbo\, Lazio\, Italia
GEO:42.417;12.1051
X-APPLE-STRUCTURED-LOCATION;VALUE=URI;X-ADDRESS=Comune\, Viterbo\, Viterbo\
 , Lazio\, Italia;X-APPLE-RADIUS=100;X-TITLE=Viterbo:geo:42.417,12.1051
END:VEVENT
BEGIN:VTIMEZONE
TZID:Europe/Rome
X-LIC-LOCATION:Europe/Rome
BEGIN:STANDARD
DTSTART:20221030T020000
TZOFFSETFROM:+0200
TZOFFSETTO:+0100
TZNAME:CET
END:STANDARD
END:VTIMEZONE
END:VCALENDAR