BEGIN:VCALENDAR
VERSION:2.0
PRODID:-//wp-events-plugin.com//7.2.3.1//EN
TZID:Europe/Rome
X-WR-TIMEZONE:Europe/Rome
BEGIN:VEVENT
UID:43283@lazioeventi.com
DTSTART;TZID=Europe/Rome:20251210T180000
DTEND;TZID=Europe/Rome:20260107T200000
DTSTAMP:20251203T213514Z
URL:https://lazioeventi.com/eventi/angels-alla-galleria-studio-cico
SUMMARY:Angels: alla Galleria Studio CiCo - Roma - 10 Dicembre 25 18:00
DESCRIPTION:La Galleria d’Arte Studio CiCo è lieta di annunciare l’ina
 ugurazione della mostra “ANGELS”\, personale di Cinzia Cotellessa\, ch
 e aprirà al pubblico mercoledì 10 dicembre 2025 alle ore 18.00 e sarà v
 isitabile fino al 7 gennaio 2026. La presentazione sarà affidata al criti
 co d’arte Piero Zanetov\, mentre la curatela è della stessa artista.\n\
 nGli angeli\, tema della mostra\n\nLa mostra affonda le sue radici in una 
 riflessione sul ruolo universale degli Angeli nella storia delle religioni
  e dell’immaginario umano. Queste figure\, spesso relegate nella tradizi
 one iconografica a semplici comparse nelle scene sacre\, acquistano qui un
 a piena centralità\, tornando a essere messaggeri del Divino e ponte tra 
 cielo e terra. L’obiettivo dell’esposizione è quello di riportare in 
 luce un retaggio ancestrale condiviso\, sottolineando un tema che appartie
 ne a tutta l’umanità e che in questo momento storico richiama con forza
  valori come pace\, unione e armonia.\n\nUn cerchio che inizia e torna a R
 oma\n\nL’immagine guida della mostra - due putti immersi in un paesaggio
  sospeso tra sogno e luce - anticipa l’atmosfera che caratterizza l’in
 tero percorso espositivo\, popolato da angeli\, cherubini e figure impalpa
 bili che evocano dimensioni eteree\, oniriche\, spirituali. Come ha ricord
 ato lo storico dell'arte e conduttore televisivo italiano\n\n Claudio Str
 inati\, già presentatore dell’artista nella storica esposizione a Caste
 l Sant’Angelo:\n\n«Una sorta di quintessenza promanante dalla figura an
 gelica per diventare simbolo di qualcosa che va oltre l’apparenza immedi
 ata\, assumendo le sembianze di una metafora di pace\, bellezza e benesser
 e sospesa in una dimensione onirica».\n\nLa mostra\, già presentata in d
 iverse sedi internazionali\, ritorna simbolicamente a Roma\, dove ebbe ori
 gine anni fa presso Castel Sant’Angelo. L’esposizione comprende circa 
 100 opere\, tra sanguigne e dipinti a olio\, in cui la figura angelica vie
 ne esplorata nelle sue declinazioni più intime e potenti.\n\nCinzia Cotel
 lessa: l’artista in mostra e il suo percorso\n\nNel percorso espositivo 
 anche le opere della gallerista e artista Cinzia Cotellessa\, da decenni a
 ttiva a Roma\, dove ha compiuto gli studi artistici al Liceo S. Orsola e a
 ll’Accademia di Moda e Costume. La sua carriera inizia precocemente: a s
 oli 13 anni espone le prime opere e nel 1981 partecipa con le sue chine al
  Festival dei Due Mondi di Spoleto. Il suo stile figurativo simbolico è i
 nfluenzato dai preraffaelliti\, alternando nudi sensuali a figure angelich
 e eteree\, realizzate attraverso tecniche antiche come la sanguigna e la t
 empera. Cotellessa ha esposto in Europa\, Nord e Sud America\, Medio Orien
 te e in Vaticano. Tra le tappe più significative della sua carriera si ri
 corda la mostra del 2008 a Castel Sant’Angelo\, presentata dal Prof. Str
 inati. Dal 2004 l’artista affianca alla pittura un percorso di speriment
 azione contemporanea legato alla Cracking Art e all’ecologia\, per poi t
 ornare nel 2011 al figurativo con una serie dedicata ai pet\, in una mostr
 a pionieristica «in cui - ricorda l’artista - gli animali furono ospiti
  d’onore»\n\nLe altre opere e gli altri artisti in mostra\n\nAccanto al
 le opere di Cotellessa\, la mostra ospiterà lavori di artisti che hanno v
 oluto omaggiarne la personale: Bacci\, Borrelli\, Gallegati\, Maresti\, Na
 tale\, Pietrangeli e Virgili.\n\nSaranno inoltre presentate palle di Natal
 e dipinte a mano da artisti amici dell’autrice\, proposte come oggetti u
 nici e preziosi per le festività imminenti.\n\nL’inaugurazione\, con ap
 ericena alle ore 18.00\, si terrà presso la sede della Galleria d’Arte 
 Studio CiCo in via Gallese a Roma.
ATTACH;FMTTYPE=image/jpeg:https://lazioeventi.com/wp-content/uploads/2025/
 12/cc_mostra.jpeg
CATEGORIES:Arte e Cultura nel Lazio
LOCATION:Roma\, Via Leopardi\, Roma\, Roma\, Lazio\, Italia
GEO:41.8942;12.5017
X-APPLE-STRUCTURED-LOCATION;VALUE=URI;X-ADDRESS=Via Leopardi\, Roma\, Roma\
 , Lazio\, Italia;X-APPLE-RADIUS=100;X-TITLE=Roma:geo:41.8942,12.5017
END:VEVENT
BEGIN:VTIMEZONE
TZID:Europe/Rome
X-LIC-LOCATION:Europe/Rome
BEGIN:STANDARD
DTSTART:20251026T020000
TZOFFSETFROM:+0200
TZOFFSETTO:+0100
TZNAME:CET
END:STANDARD
END:VTIMEZONE
END:VCALENDAR