BEGIN:VCALENDAR
VERSION:2.0
PRODID:-//wp-events-plugin.com//7.2.3.1//EN
TZID:Europe/Rome
X-WR-TIMEZONE:Europe/Rome
BEGIN:VEVENT
UID:43947@lazioeventi.com
DTSTART;TZID=Europe/Rome:20260417T213000
DTEND;TZID=Europe/Rome:20260417T235000
DTSTAMP:20260304T233748Z
URL:https://lazioeventi.com/eventi/anime-ribelli-tributo-ai-cantautori
SUMMARY:Anime Ribelli - Tributo ai Cantautori - Roma - 17 Aprile 26 21:30
DESCRIPTION:Ingresso + drink 13\,00 €\n\nDisposizione sala: posti seduti 
 al tavolo\n\nApertura ore 20 – Inizio Concerti ore 21:30\n\ninfo e preno
 tazioni: 06/ 89 41 56 78\n\nMail: crossroadsprenotazioni@gmail.com\n\n&nb
 sp\;\n\nIl live che abbiamo sempre sognato…\n\nah\, che bell’ ‘o caf
 è… mettete una sera negli anni ’90 al Club Tenco ed una foto iconica.
  De André\, Guccini e Vecchioni attorno allo stesso tavolo\, tra un bicch
 iere di vino e un caffè\, nel dopo concerto. Immaginate che evento sarebb
 e stato avere sul palcoscenico\, insieme\, questi tre giganti assoluti del
 la Musica d’Autore.\n\nREDWOOD la band cantautorale porta in scena il co
 ncerto che abbiamo sempre sognato. Alcuni dei pezzi più famosi e intensi 
 di Fabrizio De André\, Francesco Guccini e Roberto Vecchioni. Una trama f
 atta di musica e parole\, cucita con l’energia di una band rock e il cal
 ore del legno di chitarre\, mandolino e violino. Capolavori come Il pescat
 ore\, Canzone per un’amica\, Samarcanda\, Don Raffaè\, Dio è morto\, S
 ogna ragazzo sogna e molto altro… Un concerto per celebrare la grande tr
 adizione cantautorale italiana.\n\nNon solo tecnica ma grande passione e c
 uore per questa musica vestita di parole e poesia. Una storia da raccontar
 e con il cuore sulle labbra e l’anima tra le dita.\n\nSarà bello\, sar
 à Vero e sarà LIVE!\n\n&nbsp\;\n\nLa Band:\n\nLuis Almasi – voce e chi
 tarra\; Gianni Campanella – batteria\; Marco De Santis – pianoforte\, 
 tastiere\; Alessandro Gilardi – violino\; Leonardo Mattiello – basso\;
  Andrea Moriconi – chitarre\, mandolino\; Federica Valentini – flauto 
 traverso e ottavino.
ATTACH;FMTTYPE=image/jpeg:https://lazioeventi.com/wp-content/uploads/2026/
 03/2X2-17-APRILE-2026.jpg
CATEGORIES:Arte e Cultura nel Lazio,Musica, Spettacoli e Danza nel Lazio
LOCATION:Roma\, Via Leopardi\, Roma\, Roma\, Lazio\, Italia
GEO:41.8942;12.5017
X-APPLE-STRUCTURED-LOCATION;VALUE=URI;X-ADDRESS=Via Leopardi\, Roma\, Roma\
 , Lazio\, Italia;X-APPLE-RADIUS=100;X-TITLE=Roma:geo:41.8942,12.5017
END:VEVENT
BEGIN:VTIMEZONE
TZID:Europe/Rome
X-LIC-LOCATION:Europe/Rome
BEGIN:DAYLIGHT
DTSTART:20260329T030000
TZOFFSETFROM:+0100
TZOFFSETTO:+0200
TZNAME:CEST
END:DAYLIGHT
END:VTIMEZONE
END:VCALENDAR