BEGIN:VCALENDAR
VERSION:2.0
PRODID:-//wp-events-plugin.com//7.2.3.1//EN
TZID:Europe/Rome
X-WR-TIMEZONE:Europe/Rome
BEGIN:VEVENT
UID:40624@lazioeventi.com
DTSTART;TZID=Europe/Rome;VALUE=DATE:20250124
DTEND;TZID=Europe/Rome;VALUE=DATE:20250606
DTSTAMP:20250122T160046Z
URL:https://lazioeventi.com/eventi/annuale-internazionale-apollo-dionisiac
 o
SUMMARY:Annuale Internazionale Apollo dionisiaco - Roma - 24 Gennaio 25 00:
 00
DESCRIPTION:Opere in poesia e opere d’arte visiva\, in pittura\, scultura
 \, grafica e fotografia\, edite o inedite e a tema libero\, di autori e ar
 tisti di ogni età\, libera formazione e nazionalità\, sono attese entro 
 il 5 giugno 2025 via e-mail all'indirizzo: accademia.poesiarte@gmail.com\n
 \nL’Accademia Internazionale di Significazione Poesia e Arte Contemporan
 ea\, polo no profit di libera creazione\, ricerca e significazione del lin
 guaggio poetico e artistico\, in convenzione formativa con l’Università
  degli Studi di Roma Tre\, accreditata dalla Regione Lazio\, iscritta all
 ’albo di Roma Capitale e del Comune di Canale Monterano e promossa dall
 ’Istituto Italiano di Cultura di New York\, bandisce il Premio Accademic
 o Internazionale di Poesia e Arte Contemporanea Apollo dionisiaco\, XII Ed
 izione Roma 2025\, senza scopo di lucro.\n\nL’evento artistico e lettera
 rio cura l’analisi critica in semiotica estetica delle opere dell’Annu
 ale Internazionale Apollo dionisiaco e celebra l’arte poetica e figurati
 va come arto stesso della vita\, che muove e congiunge ombra e luce\, sile
 nzio e parola\, emozione e pensiero\, nel rispetto del senso e del valore 
 dell’espressione.\n\nFra Poesia in voce\, Arte in mostra\, videoproiezio
 ni\, musica dal vivo e critica di valorizzazione del senso di tutte le ope
 re selezionate a firma della prof.ssa Fulvia Minetti\, pubblicazione gratu
 ita nell’Antologia Accademica della Poesia Contemporanea online e nella 
 Mostra Accademica dell’Arte Contemporanea online\, diplomi accademici al
  merito e trofei in medaglia “Apollo dionisiaco” in pregiata fusione a
 rtigianale del laboratorio orafo di Via Margutta 51 in Roma\, effigi del b
 acio degli opposti\, il premio invita il 6 dicembre 2025 presso l’Audito
 rium della Biblioteca Nazionale Centrale di Roma\, ente del Ministero dell
 a Cultura.\n\nAutori e Artisti che non desiderino presenziare sono eventua
 lmente liberi di richiedere la spedizione a domicilio dei riconoscimenti.\
 n\nInformazioni:\nAccademia Internazionale di Significazione Poesia e Arte
  Contemporanea di Roma\nE-mail: accademia.poesiarte@gmail.com\nSito Edizio
 ni Premio: https://www.accademiapoesiarte.it\nSito Antologia\, Mostra\, Cr
 itiche e Video: https://www.accademiapoesiarte.com\nLink al bando: https:/
 /www.accademiapoesiarte.it/premio-accademico-internazionale-di-poesia-e-ar
 te-contemporanea-apollo-dionisiaco-2025/\nLink al video:\n\nhttps://youtu.
 be/gK3KuAAZW4s
ATTACH;FMTTYPE=image/jpeg:https://lazioeventi.com/wp-content/uploads/2025/
 01/Immagine-Apollo-dionisiaco-2025.jpg
CATEGORIES:Arte e Cultura nel Lazio
LOCATION:Roma\, Via Leopardi\, Roma\, Roma\, Lazio\, Italia
GEO:41.8942;12.5017
X-APPLE-STRUCTURED-LOCATION;VALUE=URI;X-ADDRESS=Via Leopardi\, Roma\, Roma\
 , Lazio\, Italia;X-APPLE-RADIUS=100;X-TITLE=Roma:geo:41.8942,12.5017
END:VEVENT
BEGIN:VTIMEZONE
TZID:Europe/Rome
X-LIC-LOCATION:Europe/Rome
BEGIN:STANDARD
DTSTART:20241027T020000
TZOFFSETFROM:+0200
TZOFFSETTO:+0100
TZNAME:CET
END:STANDARD
BEGIN:DAYLIGHT
DTSTART:20250330T030000
TZOFFSETFROM:+0100
TZOFFSETTO:+0200
TZNAME:CEST
END:DAYLIGHT
END:VTIMEZONE
END:VCALENDAR