BEGIN:VCALENDAR
VERSION:2.0
PRODID:-//wp-events-plugin.com//7.2.3.1//EN
TZID:Europe/Rome
X-WR-TIMEZONE:Europe/Rome
BEGIN:VEVENT
UID:26650@lazioeventi.com
DTSTART;VALUE=DATE:20200626
DTEND;VALUE=DATE:20200629
DTSTAMP:20200612T133230Z
URL:https://lazioeventi.com/eventi/anteprima-campionato-fuochi-dartificio-
 stelle-di-fuoco
SUMMARY:Anteprima Campionato Fuochi d'Artificio - Stelle di Fuoco - Roma - 
 26 Giugno 20 00:00
DESCRIPTION:Ripartiamo col botto! Occhi al cielo e naso all’insù\, a "Ci
 necittà World" il parco divertimenti di Roma\, arriva l’eccezionale ANT
 EPRIMA di Stelle di fuoco\, Campionato Italiano di Fuochi d’Artificio. A
  Roma l’estate 2020 riaccende le emozi
ATTACH;FMTTYPE=image/jpeg:https://lazioeventi.com/wp-content/uploads/2020/
 06/anteprima-x-web.png
CATEGORIES:Sport, Tempo Libero e Divertimento nel Lazio
LOCATION:Roma\, Via Leopardi\, Roma\, Roma\, Lazio\, Italia
GEO:41.8942;12.5017
X-APPLE-STRUCTURED-LOCATION;VALUE=URI;X-ADDRESS=Via Leopardi\, Roma\, Roma\
 , Lazio\, Italia;X-APPLE-RADIUS=100;X-TITLE=Roma:geo:41.8942,12.5017
END:VEVENT
END:VCALENDAR